BEGIN:VCALENDAR
VERSION:2.0
PRODID:-//Western Dressage Association® of Colorado - ECPv6.15.20//NONSGML v1.0//EN
CALSCALE:GREGORIAN
METHOD:PUBLISH
X-WR-CALNAME:Western Dressage Association® of Colorado
X-ORIGINAL-URL:https://wdaco.org
X-WR-CALDESC:Events for Western Dressage Association® of Colorado
REFRESH-INTERVAL;VALUE=DURATION:PT1H
X-Robots-Tag:noindex
X-PUBLISHED-TTL:PT1H
BEGIN:VTIMEZONE
TZID:America/Denver
BEGIN:DAYLIGHT
TZOFFSETFROM:-0700
TZOFFSETTO:-0600
TZNAME:MDT
DTSTART:20230312T090000
END:DAYLIGHT
BEGIN:STANDARD
TZOFFSETFROM:-0600
TZOFFSETTO:-0700
TZNAME:MST
DTSTART:20231105T080000
END:STANDARD
BEGIN:DAYLIGHT
TZOFFSETFROM:-0700
TZOFFSETTO:-0600
TZNAME:MDT
DTSTART:20240310T090000
END:DAYLIGHT
BEGIN:STANDARD
TZOFFSETFROM:-0600
TZOFFSETTO:-0700
TZNAME:MST
DTSTART:20241103T080000
END:STANDARD
BEGIN:DAYLIGHT
TZOFFSETFROM:-0700
TZOFFSETTO:-0600
TZNAME:MDT
DTSTART:20250309T090000
END:DAYLIGHT
BEGIN:STANDARD
TZOFFSETFROM:-0600
TZOFFSETTO:-0700
TZNAME:MST
DTSTART:20251102T080000
END:STANDARD
END:VTIMEZONE
BEGIN:VEVENT
DTSTART;TZID=America/Denver:20240519T000000
DTEND;TZID=America/Denver:20240519T235959
DTSTAMP:20260424T200911
CREATED:20231216T131753Z
LAST-MODIFIED:20240426T163537Z
UID:13392-1716076800-1716163199@wdaco.org
SUMMARY:WDACO 2024 North Show
DESCRIPTION:Welcome to the First of Three WDACO / WDAA shows! Your points earned count towards WDAA/WDACO Qualifiers – please see each organizations requirements! \n2024 WDACO North Show; May 19\, 2024 @ Circle Star Arena\, Platteville\, ColoradoJudge Gail Matheus\, WD-RShow Manager: Jacki Rosellen; jrosellen.secretary@wdaco.orgShow Secretary: Didi DeKrey; pasdekrey2015@gmail.comJoin us for this year’s first of three WDACO Western Dressage shows!All shows are WDAA and WDACO recognized for High Points and Annual Awards!Show is open NOW for entries! Early entries end May 4\, 2024. Don’t delay!Enter the show using the forms attached\, or use the Horse Shows Online portal \n  \n\n\nDownload Prizelist\n\nDownload Entry form
URL:https://wdaco.org/event/northern-colorado-schooling-show/
LOCATION:Circle Star Arena\, 16191 County Road 17\, Platteville\, CO\, 80651\, United States
CATEGORIES:WDACO High Point Recognized Events
END:VEVENT
END:VCALENDAR