BEGIN:VCALENDAR
VERSION:2.0
PRODID:-//Western Dressage Association® of Colorado - ECPv6.15.20//NONSGML v1.0//EN
CALSCALE:GREGORIAN
METHOD:PUBLISH
X-ORIGINAL-URL:https://wdaco.org
X-WR-CALDESC:Events for Western Dressage Association® of Colorado
REFRESH-INTERVAL;VALUE=DURATION:PT1H
X-Robots-Tag:noindex
X-PUBLISHED-TTL:PT1H
BEGIN:VTIMEZONE
TZID:America/Denver
BEGIN:DAYLIGHT
TZOFFSETFROM:-0700
TZOFFSETTO:-0600
TZNAME:MDT
DTSTART:20230312T090000
END:DAYLIGHT
BEGIN:STANDARD
TZOFFSETFROM:-0600
TZOFFSETTO:-0700
TZNAME:MST
DTSTART:20231105T080000
END:STANDARD
BEGIN:DAYLIGHT
TZOFFSETFROM:-0700
TZOFFSETTO:-0600
TZNAME:MDT
DTSTART:20240310T090000
END:DAYLIGHT
BEGIN:STANDARD
TZOFFSETFROM:-0600
TZOFFSETTO:-0700
TZNAME:MST
DTSTART:20241103T080000
END:STANDARD
BEGIN:DAYLIGHT
TZOFFSETFROM:-0700
TZOFFSETTO:-0600
TZNAME:MDT
DTSTART:20250309T090000
END:DAYLIGHT
BEGIN:STANDARD
TZOFFSETFROM:-0600
TZOFFSETTO:-0700
TZNAME:MST
DTSTART:20251102T080000
END:STANDARD
END:VTIMEZONE
BEGIN:VEVENT
DTSTART;TZID=America/Denver:20240823T000000
DTEND;TZID=America/Denver:20240823T235959
DTSTAMP:20260424T153145
CREATED:20240628T145556Z
LAST-MODIFIED:20240628T152442Z
UID:14366-1724371200-1724457599@wdaco.org
SUMMARY:Classical Horse Club Equestrian Extravaganza Schooling Show
DESCRIPTION:Join us on August 23\, 2024 for our Annual Show at the Douglas County Fairgrounds\, Castle Rock \n\n\n\nThe Barbara McElnea – Les Corbeaux Show\n\n\n\n\n\n\n\nFriday Prizelist for Dressage​All Classes are open to all breedsWDAA 24-359 Qualifier for the World Show \n\n\n\nPrizelist\n\nEvent Website
URL:https://wdaco.org/event/classical-horse-club-equestrian-extravaganza-schooling-show/
LOCATION:Douglas County Fairgrounds-Indoor Arena\, 500 Fairgrounds Drive\, Castle Rock\, CO\, 80104\, United States
CATEGORIES:Schooling Show
ATTACH;FMTTYPE=image/jpeg:https://wdaco.org/wp-content/uploads/2024/06/CHC-show-2024.jpg
ORGANIZER;CN="Classical Horse Club":MAILTO:simonedressage@gmail.com
END:VEVENT
END:VCALENDAR