BEGIN:VCALENDAR
VERSION:2.0
PRODID:-//Western Dressage Association® of Colorado - ECPv6.15.20//NONSGML v1.0//EN
CALSCALE:GREGORIAN
METHOD:PUBLISH
X-WR-CALNAME:Western Dressage Association® of Colorado
X-ORIGINAL-URL:https://wdaco.org
X-WR-CALDESC:Events for Western Dressage Association® of Colorado
REFRESH-INTERVAL;VALUE=DURATION:PT1H
X-Robots-Tag:noindex
X-PUBLISHED-TTL:PT1H
BEGIN:VTIMEZONE
TZID:America/Denver
BEGIN:DAYLIGHT
TZOFFSETFROM:-0700
TZOFFSETTO:-0600
TZNAME:MDT
DTSTART:20230312T090000
END:DAYLIGHT
BEGIN:STANDARD
TZOFFSETFROM:-0600
TZOFFSETTO:-0700
TZNAME:MST
DTSTART:20231105T080000
END:STANDARD
BEGIN:DAYLIGHT
TZOFFSETFROM:-0700
TZOFFSETTO:-0600
TZNAME:MDT
DTSTART:20240310T090000
END:DAYLIGHT
BEGIN:STANDARD
TZOFFSETFROM:-0600
TZOFFSETTO:-0700
TZNAME:MST
DTSTART:20241103T080000
END:STANDARD
BEGIN:DAYLIGHT
TZOFFSETFROM:-0700
TZOFFSETTO:-0600
TZNAME:MDT
DTSTART:20250309T090000
END:DAYLIGHT
BEGIN:STANDARD
TZOFFSETFROM:-0600
TZOFFSETTO:-0700
TZNAME:MST
DTSTART:20251102T080000
END:STANDARD
END:VTIMEZONE
BEGIN:VEVENT
DTSTART;TZID=America/Denver:20240831T080000
DTEND;TZID=America/Denver:20240831T170000
DTSTAMP:20260424T153133
CREATED:20240418T160852Z
LAST-MODIFIED:20240610T132552Z
UID:14031-1725091200-1725123600@wdaco.org
SUMMARY:One Day Value Show at Latigo
DESCRIPTION:This is a Region 8 and AHA qualifying show for Arabians and Half Arabians. It is an ALL BREED SHOW. The show will also include Classic Dressage and Sport Horse classes. It is a WDACO Points qualifying Show. A flyer is available on the Colorado Arabian Horse Show web site. Entry blanks are also available on the web site. Closing date for mail in entries is August 20\,2024 on line entries due August 27\, 2024. \n\n\n\nPrize List / Entry Forms
URL:https://wdaco.org/event/one-day-value-show-at-latigo/
LOCATION:Latigo Trails Equestrian Center\, 13710 Hallelujah Trail\, Elbert\, CO\, 80106\, United States
ATTACH;FMTTYPE=image/jpeg:https://wdaco.org/wp-content/uploads/2024/04/One-day-show-at-latago.jpg
END:VEVENT
END:VCALENDAR