BEGIN:VCALENDAR
VERSION:2.0
PRODID:-//Western Dressage Association® of Colorado - ECPv6.15.20//NONSGML v1.0//EN
CALSCALE:GREGORIAN
METHOD:PUBLISH
X-WR-CALNAME:Western Dressage Association® of Colorado
X-ORIGINAL-URL:https://wdaco.org
X-WR-CALDESC:Events for Western Dressage Association® of Colorado
REFRESH-INTERVAL;VALUE=DURATION:PT1H
X-Robots-Tag:noindex
X-PUBLISHED-TTL:PT1H
BEGIN:VTIMEZONE
TZID:America/Denver
BEGIN:DAYLIGHT
TZOFFSETFROM:-0700
TZOFFSETTO:-0600
TZNAME:MDT
DTSTART:20240310T090000
END:DAYLIGHT
BEGIN:STANDARD
TZOFFSETFROM:-0600
TZOFFSETTO:-0700
TZNAME:MST
DTSTART:20241103T080000
END:STANDARD
BEGIN:DAYLIGHT
TZOFFSETFROM:-0700
TZOFFSETTO:-0600
TZNAME:MDT
DTSTART:20250309T090000
END:DAYLIGHT
BEGIN:STANDARD
TZOFFSETFROM:-0600
TZOFFSETTO:-0700
TZNAME:MST
DTSTART:20251102T080000
END:STANDARD
BEGIN:DAYLIGHT
TZOFFSETFROM:-0700
TZOFFSETTO:-0600
TZNAME:MDT
DTSTART:20260308T090000
END:DAYLIGHT
BEGIN:STANDARD
TZOFFSETFROM:-0600
TZOFFSETTO:-0700
TZNAME:MST
DTSTART:20261101T080000
END:STANDARD
END:VTIMEZONE
BEGIN:VEVENT
DTSTART;TZID=America/Denver:20250215T000000
DTEND;TZID=America/Denver:20250216T235959
DTSTAMP:20260424T075020
CREATED:20250122T203438Z
LAST-MODIFIED:20250122T204035Z
UID:14754-1739577600-1739750399@wdaco.org
SUMMARY:Pressure Proof Your Riding
DESCRIPTION:Do you or your students get distracted by show jitters\, making a mistake\, or who’s in the stands? Why do our brains just seem to go there? They don’t have to!Daniel Stewart\, an international expert on sports psychology\, we help you learn to make a plan that will counter distracting thoughts that make you lose focus and feel stress! \n\n\n\nDaniel Stewart’s clinics are engaging\, fun\, and informative. You will learn why and how your brain gets focused on unproductive thoughts during sport performance and will offer a practical plan for countering them. Daniel Stewart has written many books about sports psychology and has consulted for years with hundreds of riders from amateur to Olympic eventing and dressage trainers and riders. \n\n\n\nDaniel Stewart will offer a two day clinic at Weston Valley Ranch in Sedalia \, Colorado. One day for jumping and one for dressage. He will start each day with a seminar followed by a mounted clinic of 6 riders. He will intitially break each group into 2 groups of three\, then into 3 groups of 2. \n\n\n\nThe clinic is currently open. It will close when it is full or the day of the show.The cost is $200 per day . Auditor cost is $25 per day.
URL:https://wdaco.org/event/pressure-proof-your-riding/
LOCATION:Weston Valley Ranch\, 4898 Jackson Creek Road\, Sedalia\, CO\, 80135
ATTACH;FMTTYPE=image/png:https://wdaco.org/wp-content/uploads/2025/01/Champions-Equestrian-logo.png
ORGANIZER;CN="Champions Equestrian":MAILTO:cynda.championsequestrian@gmail.com
END:VEVENT
END:VCALENDAR