BEGIN:VCALENDAR
VERSION:2.0
PRODID:-//Western Dressage Association® of Colorado - ECPv6.15.20//NONSGML v1.0//EN
CALSCALE:GREGORIAN
METHOD:PUBLISH
X-WR-CALNAME:Western Dressage Association® of Colorado
X-ORIGINAL-URL:https://wdaco.org
X-WR-CALDESC:Events for Western Dressage Association® of Colorado
REFRESH-INTERVAL;VALUE=DURATION:PT1H
X-Robots-Tag:noindex
X-PUBLISHED-TTL:PT1H
BEGIN:VTIMEZONE
TZID:America/Denver
BEGIN:DAYLIGHT
TZOFFSETFROM:-0700
TZOFFSETTO:-0600
TZNAME:MDT
DTSTART:20240310T090000
END:DAYLIGHT
BEGIN:STANDARD
TZOFFSETFROM:-0600
TZOFFSETTO:-0700
TZNAME:MST
DTSTART:20241103T080000
END:STANDARD
BEGIN:DAYLIGHT
TZOFFSETFROM:-0700
TZOFFSETTO:-0600
TZNAME:MDT
DTSTART:20250309T090000
END:DAYLIGHT
BEGIN:STANDARD
TZOFFSETFROM:-0600
TZOFFSETTO:-0700
TZNAME:MST
DTSTART:20251102T080000
END:STANDARD
BEGIN:DAYLIGHT
TZOFFSETFROM:-0700
TZOFFSETTO:-0600
TZNAME:MDT
DTSTART:20260308T090000
END:DAYLIGHT
BEGIN:STANDARD
TZOFFSETFROM:-0600
TZOFFSETTO:-0700
TZNAME:MST
DTSTART:20261101T080000
END:STANDARD
END:VTIMEZONE
BEGIN:VEVENT
DTSTART;TZID=America/Denver:20250329T000000
DTEND;TZID=America/Denver:20250329T235959
DTSTAMP:20260424T061903
CREATED:20241231T163223Z
LAST-MODIFIED:20241231T163644Z
UID:14677-1743206400-1743292799@wdaco.org
SUMMARY:NMDA Kick Off Show
DESCRIPTION:Here’s a chance to kick off 2025 with a triple recognized show!! The New Mexico Dressage Association has\, for years\, generously included Western Dressage in their schooling shows. The have WDAA recognition. AQHA recognition has been applied for. Judge Michell Combs is a “R” in Western Dressage. There are a few stalls available for overnight. Reach out to Nance by email for more information.
URL:https://wdaco.org/event/nmda-kick-off-show-2/
LOCATION:Cherry Tree Farm\, 2315 Cherry Tree Lane\, Albuqueque\, New Mexico\, 87105
CATEGORIES:Schooling Show,WDACO High Point Recognized Events
ATTACH;FMTTYPE=image/gif:https://wdaco.org/wp-content/uploads/2024/12/nmdalogo.gif
ORGANIZER;CN="New Mexico Dressage Association":MAILTO:nmdressage@aol.com
END:VEVENT
END:VCALENDAR