BEGIN:VCALENDAR
VERSION:2.0
PRODID:-//Western Dressage Association® of Colorado - ECPv6.15.20//NONSGML v1.0//EN
CALSCALE:GREGORIAN
METHOD:PUBLISH
X-ORIGINAL-URL:https://wdaco.org
X-WR-CALDESC:Events for Western Dressage Association® of Colorado
REFRESH-INTERVAL;VALUE=DURATION:PT1H
X-Robots-Tag:noindex
X-PUBLISHED-TTL:PT1H
BEGIN:VTIMEZONE
TZID:America/Denver
BEGIN:DAYLIGHT
TZOFFSETFROM:-0700
TZOFFSETTO:-0600
TZNAME:MDT
DTSTART:20240310T090000
END:DAYLIGHT
BEGIN:STANDARD
TZOFFSETFROM:-0600
TZOFFSETTO:-0700
TZNAME:MST
DTSTART:20241103T080000
END:STANDARD
BEGIN:DAYLIGHT
TZOFFSETFROM:-0700
TZOFFSETTO:-0600
TZNAME:MDT
DTSTART:20250309T090000
END:DAYLIGHT
BEGIN:STANDARD
TZOFFSETFROM:-0600
TZOFFSETTO:-0700
TZNAME:MST
DTSTART:20251102T080000
END:STANDARD
BEGIN:DAYLIGHT
TZOFFSETFROM:-0700
TZOFFSETTO:-0600
TZNAME:MDT
DTSTART:20260308T090000
END:DAYLIGHT
BEGIN:STANDARD
TZOFFSETFROM:-0600
TZOFFSETTO:-0700
TZNAME:MST
DTSTART:20261101T080000
END:STANDARD
END:VTIMEZONE
BEGIN:VEVENT
DTSTART;TZID=America/Denver:20250611T000000
DTEND;TZID=America/Denver:20250611T235959
DTSTAMP:20260424T022550
CREATED:20250127T191539Z
LAST-MODIFIED:20250127T193131Z
UID:14767-1749600000-1749686399@wdaco.org
SUMMARY:Split Pine Ranch 1
DESCRIPTION:Two Great showsare coming in 2025​June 11 and July 23\n\n\n\nOpening Date: 4 weeks before show date Closing Date: One week before show date – Online entries accepted until Sunday before show date unless show is filled \n\n\n\nJudge: Wednesday\, Jun 11 – Simone Windeler\, USEF Western Dressage R\, USDF LWednesday\, Jul 23 – Sharron Sarchet\, USEF Western Dressage R\, USEF Dressage r \n\n\n\nSecretary: Simone WindelerQuestions: Call Simone (719) 287-2040 or e-mail simonedressage@gmail.com \n\n\n\nShowbill
URL:https://wdaco.org/event/split-pine-ranch-1/
LOCATION:Split Pine Ranch\, 15385 Black Forest Road\, Black Forest\, CO\, 80908\, United States
CATEGORIES:Schooling Show,WDACO High Point Recognized Events
ATTACH;FMTTYPE=image/jpeg:https://wdaco.org/wp-content/uploads/2024/04/Split-Pine-Ranch.jpg
ORGANIZER;CN="The Elegant Rider":MAILTO:simonedressage@gmail.com
END:VEVENT
END:VCALENDAR