BEGIN:VCALENDAR
VERSION:2.0
PRODID:-//Western Dressage Association® of Colorado - ECPv6.15.20//NONSGML v1.0//EN
CALSCALE:GREGORIAN
METHOD:PUBLISH
X-ORIGINAL-URL:https://wdaco.org
X-WR-CALDESC:Events for Western Dressage Association® of Colorado
REFRESH-INTERVAL;VALUE=DURATION:PT1H
X-Robots-Tag:noindex
X-PUBLISHED-TTL:PT1H
BEGIN:VTIMEZONE
TZID:America/Denver
BEGIN:DAYLIGHT
TZOFFSETFROM:-0700
TZOFFSETTO:-0600
TZNAME:MDT
DTSTART:20240310T090000
END:DAYLIGHT
BEGIN:STANDARD
TZOFFSETFROM:-0600
TZOFFSETTO:-0700
TZNAME:MST
DTSTART:20241103T080000
END:STANDARD
BEGIN:DAYLIGHT
TZOFFSETFROM:-0700
TZOFFSETTO:-0600
TZNAME:MDT
DTSTART:20250309T090000
END:DAYLIGHT
BEGIN:STANDARD
TZOFFSETFROM:-0600
TZOFFSETTO:-0700
TZNAME:MST
DTSTART:20251102T080000
END:STANDARD
BEGIN:DAYLIGHT
TZOFFSETFROM:-0700
TZOFFSETTO:-0600
TZNAME:MDT
DTSTART:20260308T090000
END:DAYLIGHT
BEGIN:STANDARD
TZOFFSETFROM:-0600
TZOFFSETTO:-0700
TZNAME:MST
DTSTART:20261101T080000
END:STANDARD
END:VTIMEZONE
BEGIN:VEVENT
DTSTART;TZID=America/Denver:20250621T090000
DTEND;TZID=America/Denver:20250621T160000
DTSTAMP:20260424T022553
CREATED:20250411T121857Z
LAST-MODIFIED:20250411T123521Z
UID:14937-1750496400-1750521600@wdaco.org
SUMMARY:Northern Colorado Dressage Association Schooling Show 2
DESCRIPTION:Come join us for a fun day at our second schooling show! All breeds welcome! All levels and dressage disciplines welcome! Western Dressage scores may be submitted for WDAColorado High Point program. Please refer to the High Point program information and requirements on the WDACO website. All NCDA Chapter members can use points scored towards the NCDA Year End Awards! Overall Show High Point award and ribbons to 6th place. One Division for all! For Test of Choice classes\, please include which test you will ride.  \n\n\n\nEnter through the NCDA website\, Equestrian Entries\, or contact Didi your Show Secretary at denisedekrey@gmail.com . \n\n\n\nPrizelist
URL:https://wdaco.org/event/northern-colorado-dressage-association-schooling-show-2/
LOCATION:Tomora Training Center\, 11000 Hwy 34\, Greeley\, Colorado\, Colorado\, 80634\, United States
CATEGORIES:Schooling Show,WDACO High Point Recognized Events
ATTACH;FMTTYPE=image/jpeg:https://wdaco.org/wp-content/uploads/2025/04/NCDA-logo.jpg
ORGANIZER;CN="Northern Colorado Dressage Association":MAILTO:speerdressage@gmail.com
END:VEVENT
END:VCALENDAR