BEGIN:VCALENDAR
VERSION:2.0
PRODID:-//Western Dressage Association® of Colorado - ECPv6.15.20//NONSGML v1.0//EN
CALSCALE:GREGORIAN
METHOD:PUBLISH
X-WR-CALNAME:Western Dressage Association® of Colorado
X-ORIGINAL-URL:https://wdaco.org
X-WR-CALDESC:Events for Western Dressage Association® of Colorado
REFRESH-INTERVAL;VALUE=DURATION:PT1H
X-Robots-Tag:noindex
X-PUBLISHED-TTL:PT1H
BEGIN:VTIMEZONE
TZID:America/Denver
BEGIN:DAYLIGHT
TZOFFSETFROM:-0700
TZOFFSETTO:-0600
TZNAME:MDT
DTSTART:20240310T090000
END:DAYLIGHT
BEGIN:STANDARD
TZOFFSETFROM:-0600
TZOFFSETTO:-0700
TZNAME:MST
DTSTART:20241103T080000
END:STANDARD
BEGIN:DAYLIGHT
TZOFFSETFROM:-0700
TZOFFSETTO:-0600
TZNAME:MDT
DTSTART:20250309T090000
END:DAYLIGHT
BEGIN:STANDARD
TZOFFSETFROM:-0600
TZOFFSETTO:-0700
TZNAME:MST
DTSTART:20251102T080000
END:STANDARD
BEGIN:DAYLIGHT
TZOFFSETFROM:-0700
TZOFFSETTO:-0600
TZNAME:MDT
DTSTART:20260308T090000
END:DAYLIGHT
BEGIN:STANDARD
TZOFFSETFROM:-0600
TZOFFSETTO:-0700
TZNAME:MST
DTSTART:20261101T080000
END:STANDARD
END:VTIMEZONE
BEGIN:VEVENT
DTSTART;TZID=America/Denver:20251212T000000
DTEND;TZID=America/Denver:20251212T235959
DTSTAMP:20260423T180743
CREATED:20250828T123709Z
LAST-MODIFIED:20250914T203620Z
UID:15301-1765497600-1765583999@wdaco.org
SUMMARY:Latigo Winter December
DESCRIPTION:Boyer Performance Horses and The Elegant Rider presentLatigo Dressage SchoolingShow Series 2025 –At Latigo Trails Equestrian Center13710 Halleluiah Trail\, Elbert\, 80106(Show arena indoor\, warm-up outdoor)Show Dates: Oct 24 – Dec 12WDACO High Point recognizedOpening Date: 4 weeks before show date Closing Date: One Week before show date –Online entries accepted until three days before show date unlessshow is filled \n\n\n\nJudge: Friday\, Oct 24 – Simone Windeler USEF Western R\, USDF LFriday\, Dec 12 – Simone Windeler USEF Western R\, USDF L \n\n\n\nJoin us for the Winter Buckle Series at Latigo Trails Event Center – We offer Dressage\, Western Dressage\, Eventing Dressage and Working Equitation Dressage Classes. \n\n\n\n \n\n\n\nShowbill\n\nShow Registration
URL:https://wdaco.org/event/latigo-winter-3/
LOCATION:Latigo Trails Equestrian Center\, 13710 Hallelujah Trail\, Elbert\, CO\, 80106\, United States
CATEGORIES:WDACO High Point Recognized Events
ATTACH;FMTTYPE=image/jpeg:https://wdaco.org/wp-content/uploads/2025/02/Latigo-logo.jpg
ORGANIZER;CN="The Elegant Rider":MAILTO:simonedressage@gmail.com
END:VEVENT
END:VCALENDAR