BEGIN:VCALENDAR
VERSION:2.0
PRODID:-//Western Dressage Association® of Colorado - ECPv6.15.20//NONSGML v1.0//EN
CALSCALE:GREGORIAN
METHOD:PUBLISH
X-ORIGINAL-URL:https://wdaco.org
X-WR-CALDESC:Events for Western Dressage Association® of Colorado
REFRESH-INTERVAL;VALUE=DURATION:PT1H
X-Robots-Tag:noindex
X-PUBLISHED-TTL:PT1H
BEGIN:VTIMEZONE
TZID:America/Denver
BEGIN:DAYLIGHT
TZOFFSETFROM:-0700
TZOFFSETTO:-0600
TZNAME:MDT
DTSTART:20250309T090000
END:DAYLIGHT
BEGIN:STANDARD
TZOFFSETFROM:-0600
TZOFFSETTO:-0700
TZNAME:MST
DTSTART:20251102T080000
END:STANDARD
BEGIN:DAYLIGHT
TZOFFSETFROM:-0700
TZOFFSETTO:-0600
TZNAME:MDT
DTSTART:20260308T090000
END:DAYLIGHT
BEGIN:STANDARD
TZOFFSETFROM:-0600
TZOFFSETTO:-0700
TZNAME:MST
DTSTART:20261101T080000
END:STANDARD
BEGIN:DAYLIGHT
TZOFFSETFROM:-0700
TZOFFSETTO:-0600
TZNAME:MDT
DTSTART:20270314T090000
END:DAYLIGHT
BEGIN:STANDARD
TZOFFSETFROM:-0600
TZOFFSETTO:-0700
TZNAME:MST
DTSTART:20271107T080000
END:STANDARD
END:VTIMEZONE
BEGIN:VEVENT
DTSTART;TZID=America/Denver:20260222T130000
DTEND;TZID=America/Denver:20260222T150000
DTSTAMP:20260423T155112
CREATED:20260206T133942Z
LAST-MODIFIED:20260209T230129Z
UID:15557-1771765200-1771772400@wdaco.org
SUMMARY:CELEBRATION OF 2025 MEMBERSHIP MEETING
DESCRIPTION:WDACO Annual Meeting and 2025 High Point Awards Featuring Anna Blake as Presenter. 1:00 – 3:00 Mountain Time \n\n\n\nThis is a great time to mingle with other equine enthusiasts and\, if you’re new to Western Dressage\, to learn more about the sport from beginners to experts. \n\n\n\n\nCelebration of WDACO 2025 High Point Awards\n\n\n\nVolunteer Recognition\n\n\n\nPresentation by Dr. Susan Fay\, Author and Clinician\n\n\n\nLight snacks and beverages. \n\n\n\nDon’t miss the SILENT AUCTION!\n\n\n\nFREE on-street parking\n\n\n\n\n\n\nRSVP by February 18\, 2026\n\n\n\n\n\nRSVP NOW
URL:https://wdaco.org/event/celebration-of-2025membership-meeting/
LOCATION:One Lincoln Park\, Owners Club\, 2001 Lincoln St\, Denver\, 80205
ATTACH;FMTTYPE=image/jpeg:https://wdaco.org/wp-content/uploads/2025/01/Join-us-banner.jpg
END:VEVENT
END:VCALENDAR