BEGIN:VCALENDAR
VERSION:2.0
PRODID:-//Western Dressage Association® of Colorado - ECPv6.15.20//NONSGML v1.0//EN
CALSCALE:GREGORIAN
METHOD:PUBLISH
X-ORIGINAL-URL:https://wdaco.org
X-WR-CALDESC:Events for Western Dressage Association® of Colorado
REFRESH-INTERVAL;VALUE=DURATION:PT1H
X-Robots-Tag:noindex
X-PUBLISHED-TTL:PT1H
BEGIN:VTIMEZONE
TZID:America/Denver
BEGIN:DAYLIGHT
TZOFFSETFROM:-0700
TZOFFSETTO:-0600
TZNAME:MDT
DTSTART:20250309T090000
END:DAYLIGHT
BEGIN:STANDARD
TZOFFSETFROM:-0600
TZOFFSETTO:-0700
TZNAME:MST
DTSTART:20251102T080000
END:STANDARD
BEGIN:DAYLIGHT
TZOFFSETFROM:-0700
TZOFFSETTO:-0600
TZNAME:MDT
DTSTART:20260308T090000
END:DAYLIGHT
BEGIN:STANDARD
TZOFFSETFROM:-0600
TZOFFSETTO:-0700
TZNAME:MST
DTSTART:20261101T080000
END:STANDARD
BEGIN:DAYLIGHT
TZOFFSETFROM:-0700
TZOFFSETTO:-0600
TZNAME:MDT
DTSTART:20270314T090000
END:DAYLIGHT
BEGIN:STANDARD
TZOFFSETFROM:-0600
TZOFFSETTO:-0700
TZNAME:MST
DTSTART:20271107T080000
END:STANDARD
END:VTIMEZONE
BEGIN:VEVENT
DTSTART;TZID=America/Denver:20260411T000000
DTEND;TZID=America/Denver:20260412T235959
DTSTAMP:20260423T130325
CREATED:20260204T211902Z
LAST-MODIFIED:20260327T124825Z
UID:15518-1775865600-1776038399@wdaco.org
SUMMARY:TWO-DAY CLINIC WITH CODY HARRISON | CH EQUINE
DESCRIPTION:Join us for an Immersive two-day clinic!\n\n\n\nWhen you work with Cody\, you’ll learn to truly feel your horse — physically\, energetically\, and emotionally.Cody takes a whole-horse approach\, considering posture\, comfort\, balance\, confidence\, and willingness\, along with your own position\, mindset\, and communication.The result is a partnership built on empathy\, clarity\, and trust.Cody does an exceptional job of assessing the individual needs of every horse and rider.With a wide range of rider levels and horse experience\, each participant is taught according to their own ability\, confidence\, and knowledge.Don’t miss this opportunity to strengthen your partnership and take your dressage training to the next level! \n\n\n\nEvent Flyer\n\nPrint Enrollment Form\n\n\n\nRegistration deadline is March 15th\n\n\n\n\n\n\n\n\n\n\nFor more information contact: Cathy Ross 720.236.6880 or cathy.ross4r@gmail.com  \n\n\n\nCLINIC DETAILS \n\n\n\n\nLimited to 12 riders only for the weekend\n\n\n\nTwo sessions each day for each group/each rider\n\n\n\nSmall\, personalized groups of only four riders\n\n\n\n4½ hours of personalized training over two days\n\n\n\nAuditing encouraged when not riding\n\n\n\n\nREGISTRATION FEES \n\n\n\n\nRiders$295 WDACO Members$330 Non-Members\n\n\n\n$150 deposit due at registration\, balance due by April 1st\n\n\n\nAuditorsFREE for WDACO Members$25 per day for Non-Members\n\n\n\nWDACO membership is only $35/year\n\n\n\n\nJoin WDACO\n\n\n\n PARKING/CAMPING \n\n\n\n\nPlenty of trailer parking with easy turn-around\n\n\n\nOvernight pens with shelter available — $25/night (5 available)\n\n\n\nTrailer camping$20/night no electric$45/night with electric\n\n\n\n\n\n\n\n                \n                        \n                            CH Equine Clinic Registration\n                             \n                        \n                        Are You Registering as:\n			\n					\n					Rider\n			\n			\n					\n					Auditor\n			Registration for Riders is full.\n								\n								Please place me on the waiting list for rider registration\n							WDACO Member?(Required)\n			\n					\n					Yes\n			\n			\n					\n					No\n			Is the participant under 18 years of age?(Required)\n			\n					\n					Yes\n			\n			\n					\n					No\n			Name(Required)\n                            \n                            \n                                                    \n                                                    First\n                                                \n                            \n                            \n                                                    \n                                                    Last\n                                                \n                            \n                        Email(Required)\n                            \n                        Phone(Required)Address(Required)    \n                    \n                         \n                                        \n                                        Street Address\n                                    \n                                        \n                                        Address Line 2\n                                    \n                                    \n                                    City\n                                 \n                                        AlabamaAlaskaAmerican SamoaArizonaArkansasCaliforniaColoradoConnecticutDelawareDistrict of ColumbiaFloridaGeorgiaGuamHawaiiIdahoIllinoisIndianaIowaKansasKentuckyLouisianaMaineMarylandMassachusettsMichiganMinnesotaMississippiMissouriMontanaNebraskaNevadaNew HampshireNew JerseyNew MexicoNew YorkNorth CarolinaNorth DakotaNorthern Mariana IslandsOhioOklahomaOregonPennsylvaniaPuerto RicoRhode IslandSouth CarolinaSouth DakotaTennesseeTexasUtahU.S. Virgin IslandsVermontVirginiaWashingtonWest VirginiaWisconsinWyomingArmed Forces AmericasArmed Forces EuropeArmed Forces Pacific\n                                        State\n                                      \n                                    \n                                    ZIP Code\n                                \n                    \n                Rider DetailsHorse's Name(Required)Horse's Age(Required)Breed(Required)Emergency Contact(Required)NamePhoneIndicate the level of tests you currently ride in Western DressageFeesClinic Payment Option\n			\n					\n					$150 deposit\, balance due by April 1st\n			\n			\n					\n					Pay Full Amount Now\n			Rider Clinic FeeSorry\, rider registration is full. Auditor FeesSelect day to audit\n			\n					\n					Saturday\n			\n			\n					\n					Sunday\n			\n			\n					\n					Both Days\n			Total Auditor fees\n            \n                $0.00\n                \n            FREE for WDACO Members\n$25 per day for Non-MembersPen with Shelter feesOvernight Pen with Shelter\n								\n								One night\n							\n								\n								Two nights\n							Total Pen fees\n            \n                $0.00\n                \n            RV/Trailer Camping Fee – Friday Night\n			\n					\n					$20/night no electric\n			\n			\n					\n					$45/night with electric\n			RV/Trailer Camping Fee – Saturday Night\n			\n					\n					$20/night no electric\n			\n			\n					\n					$45/night with electric\n			Total Fees\n							\n						ASSUMPTION OF RISK\, WAIVER AND RELEASE OF LIABILITY(Required) By my signature below\, I\, the participant\, acknowledge that I have voluntarily applied to participate in the following equine activities\, which activities are produced and/or sponsored by Western Dressage Association of Colorado\, (WDACO).Western Dressage clinic\, show or event name: CH Equine Two Day Clinic     Date: April 11-12\, 2026  \nIn consideration of the Event Sponsors allowing me to participate in the Activities\, I agree as follows: \n\n1.	Assumption of Risks.  I acknowledge that there are numerous inherent risks associated with equine activities\, including but not limited to: (a) the propensity of equines to behave in such ways as to result in injury or death to persons around them; (b) the unpredictability of an equine’s reaction to such things as sounds\, sudden movements\, unfamiliar objects\, persons or other animals; (c) collision with other animals; and (d) the potential of participants to act in a negligent manner that may contribute to injury to the participant or others.  With full knowledge and appreciation of these and other inherent risks associated with the Activities\, I freely and voluntarily assume such risks.  \n2.	Wavier and Release of Liability.  Understanding and assuming the risks of the Activities\, I hereby waive any and all rights to sue and hereby release the Event Sponsors and their respective directors\, officers\, members\, employees\, volunteers\, agents\, contractors and representatives (collectively\, the “Releases”) from any and all liability\, loss\, claims or actions that I\, my assignees\, heirs\, or legal representatives may have for property damage\, injury or death (including to my horse) resulting from the Activities.  This wavier and release is effective even if the property damage\, injury or death is caused by or contributed to by actions or failure to act of the Releases that constitute ordinary negligence or a violation of any applicable law pertaining to equine activity liabilities.  \n3.	Permission to Summon Medical Assistance.  If I am injured during the course of participating in the Activities and am unable to verbally communicate\, I hereby grant permission to the Event Sponsors to summon medical assistance for me if they deem it necessary in their sole discretion.  I further agree to be financially responsible for payment of all costs resulting from the rendering of medical aid and/or ambulance services in the event of an injury\, accident\, illness to me while participating in any activities associated with the Western Dressage Event.  \n4.	Indemnification.  I also agree to indemnify and hold harmless the WDACO\, and their respective clinicians\, judges\, officers\, directors\, managers\, members\, employees\, agents\, assistants\, representatives\, assigns and others acting on their behalf against all liability\, claim\, loss\, action or expenses which are sustained\, suffered or incurred by any third person(s) that I may cause (directly or indirectly) while engaged in any or all of the Activities at any time and at any location in connection with my attendance or participation in the event or instruction. [”Third persons” are any and all people who are not parties to this Agreement and includes\, but is not limited to\, my relatives\, guest or other clinic participants\, spectators or visitors\, etc.].  The indemnification shall include reimbursement of the Clinician’s\, Judge’s or Facilitator’s reasonable attorney fees.  \n5.	Intent.  This document is intended to be as broad and inclusive as applicable state law permits.  If any clause conflicts with applicable law\, only that clause will be void but the remainder shall stay in full force and effect.  \n6.	I\, for myself and/or on behalf of my child or legal ward\, have been fully warned and advised by the WDACO\, and their clinicians\, judges and facilitators\, hereinafter referred to Agent\, that I should purchase and wear properly fitted and secured ASTM-standard/SEI-certified protective headgear (helmet and strap) that is designed for use by equestrians when riding or near horses and ponies in order to reduce the severity of some head injuries and possible prevent death from happening as the result of a fall or other occurrences.  I am not relying on the Agent or anyone affiliated with the Agent to provide a certified equestrian helmet or headgear for me\, to check any helmet or strap that I may wear or to monitor my compliance with this suggestion at any time – now or in the future.  Children under the age of 18 must wear a helmet.  If I choose to wear an ASTMstandard/SEI certified helmet and headgear\, or if I choose not to\, this is my decision alone.   \nUnder Colorado Law\, an equine professional is not liable for any injury to or the death of a participant in equine activities resulting from the inherent risks of equine activities pursuant to section 13-2-120\, Colorado Revised Statutes.  \nI HAVE READ THIS ASSUMPTION OF RISK\, WAVIER AND RELEASE OF LIABILITY AND I AGREE TO BE FULLY BOUND BY ITS TERMS.  I UNDERSTAND THAT THIS IS A RELEASE OF CLAIMS AND THAT I AM ASSUMING RISKS INHERENT TO MY PARTICIPATION. Participant SignatureParent / Guardian ConsentParent / Guardian Consent If the participant is under 18 years of age\, the Participant’s parent or guardian must read and sign below\, indicating his or her acceptance.The undersigned declares that he or she is the parent or legal guardian of the participant and is over 21 years of age.  The undersigned has read this Assumption of Risk\, Wavier and Release of Liability\, and agrees that all of the terms and conditions contained herein shall be binding upon both the undersigned and the Participant.  \nEVENT NAME: CH Equine Clinic   | Date: April 11th-12th \nParent / Guardian Name\n                            \n                            \n                                                    \n                                                    First\n                                                \n                            \n                            \n                                                    \n                                                    Last\n                                                \n                            \n                        Parent / Guardian Email\n                            \n                        Parent / Guardian Phone\n          \n            \n            \n            \n            \n            \n            \n            \n            \n            \n            \n            \n            \n            \n        \n                        Δ
URL:https://wdaco.org/event/ch-equine/
LOCATION:CH Equine Facility\, 6505 E 160th Ave\, Brighton\, Colorado
CATEGORIES:WDACO Event
ATTACH;FMTTYPE=image/jpeg:https://wdaco.org/wp-content/uploads/2026/02/CH-Equine-logo.jpg
END:VEVENT
END:VCALENDAR