BEGIN:VCALENDAR
VERSION:2.0
PRODID:-//Western Dressage Association® of Colorado - ECPv6.15.20//NONSGML v1.0//EN
CALSCALE:GREGORIAN
METHOD:PUBLISH
X-ORIGINAL-URL:https://wdaco.org
X-WR-CALDESC:Events for Western Dressage Association® of Colorado
REFRESH-INTERVAL;VALUE=DURATION:PT1H
X-Robots-Tag:noindex
X-PUBLISHED-TTL:PT1H
BEGIN:VTIMEZONE
TZID:America/Denver
BEGIN:DAYLIGHT
TZOFFSETFROM:-0700
TZOFFSETTO:-0600
TZNAME:MDT
DTSTART:20250309T090000
END:DAYLIGHT
BEGIN:STANDARD
TZOFFSETFROM:-0600
TZOFFSETTO:-0700
TZNAME:MST
DTSTART:20251102T080000
END:STANDARD
BEGIN:DAYLIGHT
TZOFFSETFROM:-0700
TZOFFSETTO:-0600
TZNAME:MDT
DTSTART:20260308T090000
END:DAYLIGHT
BEGIN:STANDARD
TZOFFSETFROM:-0600
TZOFFSETTO:-0700
TZNAME:MST
DTSTART:20261101T080000
END:STANDARD
BEGIN:DAYLIGHT
TZOFFSETFROM:-0700
TZOFFSETTO:-0600
TZNAME:MDT
DTSTART:20270314T090000
END:DAYLIGHT
BEGIN:STANDARD
TZOFFSETFROM:-0600
TZOFFSETTO:-0700
TZNAME:MST
DTSTART:20271107T080000
END:STANDARD
END:VTIMEZONE
BEGIN:VEVENT
DTSTART;TZID=America/Denver:20260509T000000
DTEND;TZID=America/Denver:20260509T235959
DTSTAMP:20260423T142813
CREATED:20260325T123035Z
LAST-MODIFIED:20260325T171545Z
UID:15758-1778284800-1778371199@wdaco.org
SUMMARY:Northern Colorado Dressage Association Ride A Test
DESCRIPTION:Two Events * Two Days * One Location \n\n\n\nCome join us for a fun and informative Ride A Test Clinic with judge Julie Haugen!Ride your dressage test of choice (Classical\, Eventing or Western)\, receive your judged test.Work with Julie to improve!
URL:https://wdaco.org/event/northern-colorado-dressage-association-ride-a-test/
LOCATION:Tomora Training Center\, 11000 Hwy 34\, Greeley\, Colorado\, Colorado\, 80634\, United States
CATEGORIES:Classical Dressage Clinic w/ WD Offered,WDACO High Point Recognized Events
ATTACH;FMTTYPE=image/jpeg:https://wdaco.org/wp-content/uploads/2025/04/NCDA-logo.jpg
ORGANIZER;CN="Northern Colorado Dressage Association":MAILTO:speerdressage@gmail.com
END:VEVENT
END:VCALENDAR