BEGIN:VCALENDAR
VERSION:2.0
PRODID:-//Western Dressage Association® of Colorado - ECPv6.15.20//NONSGML v1.0//EN
CALSCALE:GREGORIAN
METHOD:PUBLISH
X-ORIGINAL-URL:https://wdaco.org
X-WR-CALDESC:Events for Western Dressage Association® of Colorado
REFRESH-INTERVAL;VALUE=DURATION:PT1H
X-Robots-Tag:noindex
X-PUBLISHED-TTL:PT1H
BEGIN:VTIMEZONE
TZID:America/Denver
BEGIN:DAYLIGHT
TZOFFSETFROM:-0700
TZOFFSETTO:-0600
TZNAME:MDT
DTSTART:20230312T090000
END:DAYLIGHT
BEGIN:STANDARD
TZOFFSETFROM:-0600
TZOFFSETTO:-0700
TZNAME:MST
DTSTART:20231105T080000
END:STANDARD
BEGIN:DAYLIGHT
TZOFFSETFROM:-0700
TZOFFSETTO:-0600
TZNAME:MDT
DTSTART:20240310T090000
END:DAYLIGHT
BEGIN:STANDARD
TZOFFSETFROM:-0600
TZOFFSETTO:-0700
TZNAME:MST
DTSTART:20241103T080000
END:STANDARD
BEGIN:DAYLIGHT
TZOFFSETFROM:-0700
TZOFFSETTO:-0600
TZNAME:MDT
DTSTART:20250309T090000
END:DAYLIGHT
BEGIN:STANDARD
TZOFFSETFROM:-0600
TZOFFSETTO:-0700
TZNAME:MST
DTSTART:20251102T080000
END:STANDARD
END:VTIMEZONE
BEGIN:VEVENT
DTSTART;TZID=America/Denver:20240630T000000
DTEND;TZID=America/Denver:20240630T235959
DTSTAMP:20260424T175753
CREATED:20240527T150258Z
LAST-MODIFIED:20240617T113824Z
UID:14232-1719705600-1719791999@wdaco.org
SUMMARY:WDACO June Jubilee Show
DESCRIPTION:Join us for a June Jubilee horse show! Event is WDACO and WDAA High Point recognized.Entries accepted to June 23 with a late fee after the 20th! Enter by printing the entry forms below\, or click the Enter Online button to enter via HorseShowsOnline.Ribbons through 5th place. Overall High Point Award and Level High Points (Intro – 5th Level) \n\n\n\nPrizelist\n\nPrint Entry Form\n\nEnter Online
URL:https://wdaco.org/event/wdaco-june-jubilee-show/
LOCATION:Douglas County Fairgrounds-Indoor Arena\, 500 Fairgrounds Drive\, Castle Rock\, CO\, 80104\, United States
CATEGORIES:i. e. USEF,Other Type of Show,WDACO High Point Recognized Events
ATTACH;FMTTYPE=image/jpeg:https://wdaco.org/wp-content/uploads/2024/05/Douglas-County-Fairgrounds.jpg
END:VEVENT
END:VCALENDAR