BEGIN:VCALENDAR
VERSION:2.0
PRODID:-//Western Dressage Association® of Colorado - ECPv6.15.20//NONSGML v1.0//EN
CALSCALE:GREGORIAN
METHOD:PUBLISH
X-ORIGINAL-URL:https://wdaco.org
X-WR-CALDESC:Events for Western Dressage Association® of Colorado
REFRESH-INTERVAL;VALUE=DURATION:PT1H
X-Robots-Tag:noindex
X-PUBLISHED-TTL:PT1H
BEGIN:VTIMEZONE
TZID:America/Denver
BEGIN:DAYLIGHT
TZOFFSETFROM:-0700
TZOFFSETTO:-0600
TZNAME:MDT
DTSTART:20230312T090000
END:DAYLIGHT
BEGIN:STANDARD
TZOFFSETFROM:-0600
TZOFFSETTO:-0700
TZNAME:MST
DTSTART:20231105T080000
END:STANDARD
BEGIN:DAYLIGHT
TZOFFSETFROM:-0700
TZOFFSETTO:-0600
TZNAME:MDT
DTSTART:20240310T090000
END:DAYLIGHT
BEGIN:STANDARD
TZOFFSETFROM:-0600
TZOFFSETTO:-0700
TZNAME:MST
DTSTART:20241103T080000
END:STANDARD
BEGIN:DAYLIGHT
TZOFFSETFROM:-0700
TZOFFSETTO:-0600
TZNAME:MDT
DTSTART:20250309T090000
END:DAYLIGHT
BEGIN:STANDARD
TZOFFSETFROM:-0600
TZOFFSETTO:-0700
TZNAME:MST
DTSTART:20251102T080000
END:STANDARD
END:VTIMEZONE
BEGIN:VEVENT
DTSTART;TZID=America/Denver:20241025T000000
DTEND;TZID=America/Denver:20241025T235959
DTSTAMP:20260424T073554
CREATED:20240831T122216Z
LAST-MODIFIED:20240831T125958Z
UID:14497-1729814400-1729900799@wdaco.org
SUMMARY:Latigo Fall Dressage Schooling Show Series - Show 1
DESCRIPTION:Opening Date: 4 weeks before show date \n\n\n\nClosing Date: One Week before show date – Online entries accepted until three days before show date unless show is filled \n\n\n\n\n\nOrganizer: \n\n\n\n\n\n\n\nBoyer Performance Horses and The Elegant Rider present \n\n\n\nLatigo Fall Dressage Schooling Show Series 2024 \n\n\n\nAt Latigo Trails Equestrian Center13710 Halleluiah Trail\, Elbert\, 80106 (Show arena indoor\, warm-up outdoor)Show Dates: Oct 25 – Nov 15 – Dec 13WDACO High Point recognized \n\n\n\nJudge: Friday\, Oct 25 – Simone Windeler USEF Western R\, USDF LFriday\, Nov 15 – Simone Windeler USEF Western R\, USDF LFriday\, Dec 13 – Simone Windeler USEF Western R\, USDF L \n\n\n\nSecretary: Simone WindelerQuestions: Call Simone (719) 287-2040 or e-mail simonedressage@gmail.comShow Man: Boyer Performance Horses / The Elegant RiderDivisions: O-Open A-Adult Amateur J- Junior/Young Rider TOC = Test of choice \n\n\n\nATTENTION: Online entries only for every show  \n\n\n\nRegister Online
URL:https://wdaco.org/event/latigo-fall-dressage-schooling-show-series-show-1/
LOCATION:Latigo Trails Equestrian Center\, 13710 Hallelujah Trail\, Elbert\, CO\, 80106\, United States
CATEGORIES:Schooling Show,WDACO High Point Recognized Events
ATTACH;FMTTYPE=image/jpeg:https://wdaco.org/wp-content/uploads/2024/08/Latigo-entrance.jpg
END:VEVENT
END:VCALENDAR