BEGIN:VCALENDAR
VERSION:2.0
PRODID:-//Western Dressage Association® of Colorado - ECPv6.15.20//NONSGML v1.0//EN
CALSCALE:GREGORIAN
METHOD:PUBLISH
X-ORIGINAL-URL:https://wdaco.org
X-WR-CALDESC:Events for Western Dressage Association® of Colorado
REFRESH-INTERVAL;VALUE=DURATION:PT1H
X-Robots-Tag:noindex
X-PUBLISHED-TTL:PT1H
BEGIN:VTIMEZONE
TZID:America/Denver
BEGIN:DAYLIGHT
TZOFFSETFROM:-0700
TZOFFSETTO:-0600
TZNAME:MDT
DTSTART:20240310T090000
END:DAYLIGHT
BEGIN:STANDARD
TZOFFSETFROM:-0600
TZOFFSETTO:-0700
TZNAME:MST
DTSTART:20241103T080000
END:STANDARD
BEGIN:DAYLIGHT
TZOFFSETFROM:-0700
TZOFFSETTO:-0600
TZNAME:MDT
DTSTART:20250309T090000
END:DAYLIGHT
BEGIN:STANDARD
TZOFFSETFROM:-0600
TZOFFSETTO:-0700
TZNAME:MST
DTSTART:20251102T080000
END:STANDARD
BEGIN:DAYLIGHT
TZOFFSETFROM:-0700
TZOFFSETTO:-0600
TZNAME:MDT
DTSTART:20260308T090000
END:DAYLIGHT
BEGIN:STANDARD
TZOFFSETFROM:-0600
TZOFFSETTO:-0700
TZNAME:MST
DTSTART:20261101T080000
END:STANDARD
END:VTIMEZONE
BEGIN:VEVENT
DTSTART;TZID=America/Denver:20250228T000000
DTEND;TZID=America/Denver:20250228T235959
DTSTAMP:20260424T024325
CREATED:20241230T153447Z
LAST-MODIFIED:20241230T160131Z
UID:14651-1740700800-1740787199@wdaco.org
SUMMARY:Weston Winter Fun 1
DESCRIPTION:Weston Valley Ranch and The Elegant Rider present \n\n\n\nWeston Winter Fun Dressage Schooling Show Series 2025 At Weston Valley Ranch 4898 Jackson Creek RoadSedalia CO 80135 (Show arena indoor\, warm-up indoor) Show Dates: Feb 28 – Mar 28 – Apr 25 WDACO High Point recognized Opening Date: 4 weeks before show date  | Closing Date: One Week before show date – Online entries accepted until three days before show date unless show is filled Judge: Friday\, Feb 28 – Simone Windeler USEF Western R\, USDF L Friday\, Mar 28 – Simone Windeler USEF Western R\, USDF L Friday\, Apr 25 – Simone Windeler USEF Western R\, USDF L  \n\n\n\nSecretary: Simone Windeler Questions: Call Simone (719) 287-2040 or e-mail simonedressage@gmail.com Show Man: Weston Valley Ranch / The Elegant Rider Divisions: O-Open A-Adult Amateur J- Junior/Young Rider TOC = Test of choice ATTENTION: Online entries only for every show \n\n\n\nRegister online at Elegant Rider\n\n\n\nAll Western Dressage Tests can also be ridden as a Gaited Test. Please indicate on your entry if you have a gaited horse. We will create a separate Gaited Class for you.
URL:https://wdaco.org/event/weston-winter-fun-1/
LOCATION:Weston Valley Ranch\, 4898 Jackson Creek Road\, Sedalia\, CO\, 80135
CATEGORIES:Schooling Show,WDACO High Point Recognized Events
ATTACH;FMTTYPE=image/jpeg:https://wdaco.org/wp-content/uploads/2024/12/Weston-Valley-Ranch.jpg
ORGANIZER;CN="The Elegant Rider":MAILTO:simonedressage@gmail.com
END:VEVENT
END:VCALENDAR