BEGIN:VCALENDAR
VERSION:2.0
PRODID:-//Western Dressage Association® of Colorado - ECPv6.15.20//NONSGML v1.0//EN
CALSCALE:GREGORIAN
METHOD:PUBLISH
X-ORIGINAL-URL:https://wdaco.org
X-WR-CALDESC:Events for Western Dressage Association® of Colorado
REFRESH-INTERVAL;VALUE=DURATION:PT1H
X-Robots-Tag:noindex
X-PUBLISHED-TTL:PT1H
BEGIN:VTIMEZONE
TZID:America/Denver
BEGIN:DAYLIGHT
TZOFFSETFROM:-0700
TZOFFSETTO:-0600
TZNAME:MDT
DTSTART:20240310T090000
END:DAYLIGHT
BEGIN:STANDARD
TZOFFSETFROM:-0600
TZOFFSETTO:-0700
TZNAME:MST
DTSTART:20241103T080000
END:STANDARD
BEGIN:DAYLIGHT
TZOFFSETFROM:-0700
TZOFFSETTO:-0600
TZNAME:MDT
DTSTART:20250309T090000
END:DAYLIGHT
BEGIN:STANDARD
TZOFFSETFROM:-0600
TZOFFSETTO:-0700
TZNAME:MST
DTSTART:20251102T080000
END:STANDARD
BEGIN:DAYLIGHT
TZOFFSETFROM:-0700
TZOFFSETTO:-0600
TZNAME:MDT
DTSTART:20260308T090000
END:DAYLIGHT
BEGIN:STANDARD
TZOFFSETFROM:-0600
TZOFFSETTO:-0700
TZNAME:MST
DTSTART:20261101T080000
END:STANDARD
END:VTIMEZONE
BEGIN:VEVENT
DTSTART;TZID=America/Denver:20250727T000000
DTEND;TZID=America/Denver:20250727T235959
DTSTAMP:20260423T193703
CREATED:20241231T164641Z
LAST-MODIFIED:20241231T164643Z
UID:14685-1753574400-1753660799@wdaco.org
SUMMARY:NMDA Dressage Show at Stanley Cyclone Center
DESCRIPTION:This show is recognized by the WDAA and AQHA recognition has been applied for. It’s a very low key community venue. There no stalls however if you need stalls reach out to Nance: Nance@swcp.com and we will check with a venue just a few miles south. This will be the last weekend to get points for the WDAA lifetime points for 2025.
URL:https://wdaco.org/event/nmda-dressage-show-at-stanley-cyclone-center/
LOCATION:Colorado
CATEGORIES:Schooling Show,WDACO High Point Recognized Events
ATTACH;FMTTYPE=image/gif:https://wdaco.org/wp-content/uploads/2024/12/nmdalogo.gif
END:VEVENT
END:VCALENDAR