BEGIN:VCALENDAR
VERSION:2.0
PRODID:-//Western Dressage Association® of Colorado - ECPv6.15.20//NONSGML v1.0//EN
CALSCALE:GREGORIAN
METHOD:PUBLISH
X-ORIGINAL-URL:https://wdaco.org
X-WR-CALDESC:Events for Western Dressage Association® of Colorado
REFRESH-INTERVAL;VALUE=DURATION:PT1H
X-Robots-Tag:noindex
X-PUBLISHED-TTL:PT1H
BEGIN:VTIMEZONE
TZID:America/Denver
BEGIN:DAYLIGHT
TZOFFSETFROM:-0700
TZOFFSETTO:-0600
TZNAME:MDT
DTSTART:20250309T090000
END:DAYLIGHT
BEGIN:STANDARD
TZOFFSETFROM:-0600
TZOFFSETTO:-0700
TZNAME:MST
DTSTART:20251102T080000
END:STANDARD
BEGIN:DAYLIGHT
TZOFFSETFROM:-0700
TZOFFSETTO:-0600
TZNAME:MDT
DTSTART:20260308T090000
END:DAYLIGHT
BEGIN:STANDARD
TZOFFSETFROM:-0600
TZOFFSETTO:-0700
TZNAME:MST
DTSTART:20261101T080000
END:STANDARD
BEGIN:DAYLIGHT
TZOFFSETFROM:-0700
TZOFFSETTO:-0600
TZNAME:MDT
DTSTART:20270314T090000
END:DAYLIGHT
BEGIN:STANDARD
TZOFFSETFROM:-0600
TZOFFSETTO:-0700
TZNAME:MST
DTSTART:20271107T080000
END:STANDARD
END:VTIMEZONE
BEGIN:VEVENT
DTSTART;TZID=America/Denver:20260425T000000
DTEND;TZID=America/Denver:20260425T235959
DTSTAMP:20260423T090000
CREATED:20260212T205932Z
LAST-MODIFIED:20260212T205933Z
UID:15588-1777075200-1777161599@wdaco.org
SUMMARY:2026 GVDS Schooling Show I
DESCRIPTION:GVDS Schooling Show I – Presented by Stirrup Cup FarmOpen:   March 30\, 2026     Close:  April 13\, 2026Judge:  Heather Stalker (FL)\, Dressage “S”; USEF Western Dressage “R”;Recognitions:  WDAA/WDACO/AQHA-Western
URL:https://wdaco.org/event/2026-gvds-schooling-show-i/
LOCATION:Mesa County Fairgrounds\, 2785 US-50\, Grand Junction\, CO\, 81503\, United States
CATEGORIES:Schooling Show,WDACO High Point Recognized Events
ATTACH;FMTTYPE=image/jpeg:https://wdaco.org/wp-content/uploads/2025/01/Grand-Valley-Dressage.jpg
ORGANIZER;CN="Grand Valley Dressage Society":MAILTO:info@gvds.org
END:VEVENT
END:VCALENDAR