BEGIN:VCALENDAR
VERSION:2.0
PRODID:-//Western Dressage Association® of Colorado - ECPv6.15.20//NONSGML v1.0//EN
CALSCALE:GREGORIAN
METHOD:PUBLISH
X-ORIGINAL-URL:https://wdaco.org
X-WR-CALDESC:Events for Western Dressage Association® of Colorado
REFRESH-INTERVAL;VALUE=DURATION:PT1H
X-Robots-Tag:noindex
X-PUBLISHED-TTL:PT1H
BEGIN:VTIMEZONE
TZID:America/Denver
BEGIN:DAYLIGHT
TZOFFSETFROM:-0700
TZOFFSETTO:-0600
TZNAME:MDT
DTSTART:20250309T090000
END:DAYLIGHT
BEGIN:STANDARD
TZOFFSETFROM:-0600
TZOFFSETTO:-0700
TZNAME:MST
DTSTART:20251102T080000
END:STANDARD
BEGIN:DAYLIGHT
TZOFFSETFROM:-0700
TZOFFSETTO:-0600
TZNAME:MDT
DTSTART:20260308T090000
END:DAYLIGHT
BEGIN:STANDARD
TZOFFSETFROM:-0600
TZOFFSETTO:-0700
TZNAME:MST
DTSTART:20261101T080000
END:STANDARD
BEGIN:DAYLIGHT
TZOFFSETFROM:-0700
TZOFFSETTO:-0600
TZNAME:MDT
DTSTART:20270314T090000
END:DAYLIGHT
BEGIN:STANDARD
TZOFFSETFROM:-0600
TZOFFSETTO:-0700
TZNAME:MST
DTSTART:20271107T080000
END:STANDARD
END:VTIMEZONE
BEGIN:VEVENT
DTSTART;TZID=America/Denver:20260510T000000
DTEND;TZID=America/Denver:20260510T235959
DTSTAMP:20260423T102046
CREATED:20260325T122306Z
LAST-MODIFIED:20260325T123406Z
UID:15755-1778371200-1778457599@wdaco.org
SUMMARY:Northern Colorado Dressage Association Schooling Show
DESCRIPTION:Two Events * Two Days * One Location \n\n\n\nDay 2 – Get WDACO High Points at our relaxed Schooling show!Classical\, Eventing and Western Dressage all welcome!Judge Dolly Hannon brings her vast experience to share with you! \n\n\n\nWe Look Forward to Seeing Everyone!
URL:https://wdaco.org/event/northern-colorado-dressage-association-ride-a-test-2/
LOCATION:Tomora Training Center\, 11000 Hwy 34\, Greeley\, Colorado\, Colorado\, 80634\, United States
CATEGORIES:Schooling Show,WDACO High Point Recognized Events
ATTACH;FMTTYPE=image/jpeg:https://wdaco.org/wp-content/uploads/2025/04/NCDA-logo.jpg
ORGANIZER;CN="Northern Colorado Dressage Association":MAILTO:speerdressage@gmail.com
END:VEVENT
END:VCALENDAR