BEGIN:VCALENDAR
VERSION:2.0
PRODID:-//Western Dressage Association® of Colorado - ECPv6.15.20//NONSGML v1.0//EN
CALSCALE:GREGORIAN
METHOD:PUBLISH
X-ORIGINAL-URL:https://wdaco.org
X-WR-CALDESC:Events for Western Dressage Association® of Colorado
REFRESH-INTERVAL;VALUE=DURATION:PT1H
X-Robots-Tag:noindex
X-PUBLISHED-TTL:PT1H
BEGIN:VTIMEZONE
TZID:America/Denver
BEGIN:DAYLIGHT
TZOFFSETFROM:-0700
TZOFFSETTO:-0600
TZNAME:MDT
DTSTART:20250309T090000
END:DAYLIGHT
BEGIN:STANDARD
TZOFFSETFROM:-0600
TZOFFSETTO:-0700
TZNAME:MST
DTSTART:20251102T080000
END:STANDARD
BEGIN:DAYLIGHT
TZOFFSETFROM:-0700
TZOFFSETTO:-0600
TZNAME:MDT
DTSTART:20260308T090000
END:DAYLIGHT
BEGIN:STANDARD
TZOFFSETFROM:-0600
TZOFFSETTO:-0700
TZNAME:MST
DTSTART:20261101T080000
END:STANDARD
BEGIN:DAYLIGHT
TZOFFSETFROM:-0700
TZOFFSETTO:-0600
TZNAME:MDT
DTSTART:20270314T090000
END:DAYLIGHT
BEGIN:STANDARD
TZOFFSETFROM:-0600
TZOFFSETTO:-0700
TZNAME:MST
DTSTART:20271107T080000
END:STANDARD
END:VTIMEZONE
BEGIN:VEVENT
DTSTART;TZID=America/Denver:20260530T000000
DTEND;TZID=America/Denver:20260530T235959
DTSTAMP:20260423T102039
CREATED:20260317T133125Z
LAST-MODIFIED:20260317T134605Z
UID:15702-1780099200-1780185599@wdaco.org
SUMMARY:Celebration Dressage Classic Warmup Show
DESCRIPTION:Located at the Of HORSE You Can! arena at the Denver Polo Club in Sedalia\, CO.  \n\n\n\nOpening Date: May 2\, 2026 Closing Date: May 26\, 2026 The Celebration Dressage warm-up show to be followed the next day by the Celebration Dressage Classic. Offering all WDAA tests. Judged by Debbie Riehl-Rodriguez. \n\n\n\nDownload Showbill
URL:https://wdaco.org/event/celebration-dressage-classic-warmup-show/
LOCATION:Denver Polo Club\, 6359 Airport Road\, Sedalia\, Colorado\, 80135
CATEGORIES:Schooling Show,WDACO High Point Recognized Events
ATTACH;FMTTYPE=image/jpeg:https://wdaco.org/wp-content/uploads/2025/01/Celebration-of-Horse.jpg
END:VEVENT
END:VCALENDAR