BEGIN:VCALENDAR
VERSION:2.0
PRODID:-//Western Dressage Association® of Colorado - ECPv6.15.20//NONSGML v1.0//EN
CALSCALE:GREGORIAN
METHOD:PUBLISH
X-ORIGINAL-URL:https://wdaco.org
X-WR-CALDESC:Events for Western Dressage Association® of Colorado
REFRESH-INTERVAL;VALUE=DURATION:PT1H
X-Robots-Tag:noindex
X-PUBLISHED-TTL:PT1H
BEGIN:VTIMEZONE
TZID:America/Denver
BEGIN:DAYLIGHT
TZOFFSETFROM:-0700
TZOFFSETTO:-0600
TZNAME:MDT
DTSTART:20250309T090000
END:DAYLIGHT
BEGIN:STANDARD
TZOFFSETFROM:-0600
TZOFFSETTO:-0700
TZNAME:MST
DTSTART:20251102T080000
END:STANDARD
BEGIN:DAYLIGHT
TZOFFSETFROM:-0700
TZOFFSETTO:-0600
TZNAME:MDT
DTSTART:20260308T090000
END:DAYLIGHT
BEGIN:STANDARD
TZOFFSETFROM:-0600
TZOFFSETTO:-0700
TZNAME:MST
DTSTART:20261101T080000
END:STANDARD
BEGIN:DAYLIGHT
TZOFFSETFROM:-0700
TZOFFSETTO:-0600
TZNAME:MDT
DTSTART:20270314T090000
END:DAYLIGHT
BEGIN:STANDARD
TZOFFSETFROM:-0600
TZOFFSETTO:-0700
TZNAME:MST
DTSTART:20271107T080000
END:STANDARD
END:VTIMEZONE
BEGIN:VEVENT
DTSTART;TZID=America/Denver:20260628T080000
DTEND;TZID=America/Denver:20260628T170000
DTSTAMP:20260423T170906
CREATED:20260206T222039Z
LAST-MODIFIED:20260327T124748Z
UID:15563-1782633600-1782666000@wdaco.org
SUMMARY:Introduction & Refinement Western Dressage Clinic
DESCRIPTION:Judges Choice Training Center\n\n\n\n6771 Highway 79Bennett\, Colorado 80102 \n\n\n\n\n\nDownload Flyer\n\nRegister Online\n\nFee Payment\n\n\n\n\n\n\n\nCLINIC DETAILS \n\n\n\n\nLimited to 16 riders for the day – this clinic will fill fast so don’t wait\n\n\n\nIntro to Dressage: small\, personalized groups (no more than 4 riders per group)\n\n\n\nDressage Refinement: Individual rides in afternoon for riders already familiar with Western Dressage\n\n\n\nAuditing encouraged when not riding\n\n\n\n\n\n\nREGISTRATION FEES \n\n\n\nIntroduction to Dressage: \n\n\n\nGroup Riders (4 per group)$70 WDACO Members$85 Non-Members \n\n\n\nDressage Refinement:$100 Individual 45-minute sessions WDACO Members$125 Individual Non-Members \n\n\n\nAuditorsAuditorsFREE for WDACO Members$25/day for Non-MembersWDACO membership is only $35/year — join at registration and save! \n\n\n\n\n\nVENUE DETAILS \n\n\n\nTrailer parking with easy turn-around in pasture \n\n\n\nLimited stalling available\, if needed \n\n\n\nREFUND POLICY \n\n\n\nFees are refundable only if your spot is filled by another participant. All registration fees are non-refundable within 15 days of the clinic. \n\n\n\n\n\n \n\n\n\n\n\nIntroduction to Dressage (for riders new to WD)ANDRefinement to your Dressage (for riders experienced in WD)Join us for an Incredible Day with Ann Judge!\n\n\n\nDon’t miss this amazing opportunity to learn about Western Dressage from Ann Judge and Thunder\, Denver’s most popular and famous horse and rider mascots for the Denver Broncos! Ann is not only a famous horsewoman but an amazing clinician and show judge. This clinic is perfect for anyone new to Western Dressage who wants to learn from the best! Register early as this clinic is always popular and fills up fast. \n\n\n\n\n\n\n\n\n\n\n\nCLINICIAN: ANN JUDGE\n\n\n\nDon’t miss this amazing opportunity to work with Ann Judge and meet Thunder\, Denver’s famous horse and rider mascot for the Denver Broncos! Ann is not only a famous horsewoman but an amazing clinician and show judge. Ann has judged over 20 National Championship and World Championship Shows\, along with approximately 15 local shows per year in Colorado. Ann is Owner/Trainer of Judges Choice Equestrian Center in Bennett\, Colorado. \n\n\n\n\n\n\n\n\n                \n                        \n                            June 2026 Introduction & Refinement Western Dressage\n                             \n                        \n                        Are You Registering as:Sorry\, Dressage Refinement is full.\n			\n					\n					Intro to Dressage\n			\n			\n					\n					Dressage Refinement\n			\n			\n					\n					Auditor\n			Sorry\, Intro to Dressage and Dressage Refinement are full. Check below if you want to be added to a waitlist.\n								\n								Waiting list for Intro to Dressage\n							\n								\n								Waiting list for Dressage Refinement\n							WDACO Member?(Required)\n			\n					\n					Yes\n			\n			\n					\n					No\n			Is the participant under 18 years of age?(Required)\n			\n					\n					Yes\n			\n			\n					\n					No\n			Name(Required)\n                            \n                            \n                                                    \n                                                    First\n                                                \n                            \n                            \n                                                    \n                                                    Last\n                                                \n                            \n                        Email(Required)\n                            \n                        Phone(Required)Address(Required)    \n                    \n                         \n                                        \n                                        Street Address\n                                    \n                                        \n                                        Address Line 2\n                                    \n                                    \n                                    City\n                                 \n                                        AlabamaAlaskaAmerican SamoaArizonaArkansasCaliforniaColoradoConnecticutDelawareDistrict of ColumbiaFloridaGeorgiaGuamHawaiiIdahoIllinoisIndianaIowaKansasKentuckyLouisianaMaineMarylandMassachusettsMichiganMinnesotaMississippiMissouriMontanaNebraskaNevadaNew HampshireNew JerseyNew MexicoNew YorkNorth CarolinaNorth DakotaNorthern Mariana IslandsOhioOklahomaOregonPennsylvaniaPuerto RicoRhode IslandSouth CarolinaSouth DakotaTennesseeTexasUtahU.S. Virgin IslandsVermontVirginiaWashingtonWest VirginiaWisconsinWyomingArmed Forces AmericasArmed Forces EuropeArmed Forces Pacific\n                                        State\n                                      \n                                    \n                                    ZIP Code\n                                \n                    \n                Rider DetailsHorse's Name(Required)Horse's Age(Required)Breed(Required)Emergency Contact(Required)NamePhoneIndicate Riding Level(Required)FeesRider Clinic FeeSorry\, rider registration is full. Auditor FeesTotal Auditor fees\n            \n                $0.00\n                \n            FREE for WDACO Members\n$25 per day for Non-MembersTotal Fees\n							\n						ASSUMPTION OF RISK\, WAIVER AND RELEASE OF LIABILITY(Required) By my signature below\, I\, the participant\, acknowledge that I have voluntarily applied to participate in the following equine activities\, which activities are produced and/or sponsored by Western Dressage Association of Colorado\, (WDACO).Western Dressage clinic\, show or event name: CH Equine Two Day Clinic     Date: April 11-12\, 2026  \nIn consideration of the Event Sponsors allowing me to participate in the Activities\, I agree as follows: \n\n1.	Assumption of Risks.  I acknowledge that there are numerous inherent risks associated with equine activities\, including but not limited to: (a) the propensity of equines to behave in such ways as to result in injury or death to persons around them; (b) the unpredictability of an equine’s reaction to such things as sounds\, sudden movements\, unfamiliar objects\, persons or other animals; (c) collision with other animals; and (d) the potential of participants to act in a negligent manner that may contribute to injury to the participant or others.  With full knowledge and appreciation of these and other inherent risks associated with the Activities\, I freely and voluntarily assume such risks.  \n2.	Wavier and Release of Liability.  Understanding and assuming the risks of the Activities\, I hereby waive any and all rights to sue and hereby release the Event Sponsors and their respective directors\, officers\, members\, employees\, volunteers\, agents\, contractors and representatives (collectively\, the “Releases”) from any and all liability\, loss\, claims or actions that I\, my assignees\, heirs\, or legal representatives may have for property damage\, injury or death (including to my horse) resulting from the Activities.  This wavier and release is effective even if the property damage\, injury or death is caused by or contributed to by actions or failure to act of the Releases that constitute ordinary negligence or a violation of any applicable law pertaining to equine activity liabilities.  \n3.	Permission to Summon Medical Assistance.  If I am injured during the course of participating in the Activities and am unable to verbally communicate\, I hereby grant permission to the Event Sponsors to summon medical assistance for me if they deem it necessary in their sole discretion.  I further agree to be financially responsible for payment of all costs resulting from the rendering of medical aid and/or ambulance services in the event of an injury\, accident\, illness to me while participating in any activities associated with the Western Dressage Event.  \n4.	Indemnification.  I also agree to indemnify and hold harmless the WDACO\, and their respective clinicians\, judges\, officers\, directors\, managers\, members\, employees\, agents\, assistants\, representatives\, assigns and others acting on their behalf against all liability\, claim\, loss\, action or expenses which are sustained\, suffered or incurred by any third person(s) that I may cause (directly or indirectly) while engaged in any or all of the Activities at any time and at any location in connection with my attendance or participation in the event or instruction. [”Third persons” are any and all people who are not parties to this Agreement and includes\, but is not limited to\, my relatives\, guest or other clinic participants\, spectators or visitors\, etc.].  The indemnification shall include reimbursement of the Clinician’s\, Judge’s or Facilitator’s reasonable attorney fees.  \n5.	Intent.  This document is intended to be as broad and inclusive as applicable state law permits.  If any clause conflicts with applicable law\, only that clause will be void but the remainder shall stay in full force and effect.  \n6.	I\, for myself and/or on behalf of my child or legal ward\, have been fully warned and advised by the WDACO\, and their clinicians\, judges and facilitators\, hereinafter referred to Agent\, that I should purchase and wear properly fitted and secured ASTM-standard/SEI-certified protective headgear (helmet and strap) that is designed for use by equestrians when riding or near horses and ponies in order to reduce the severity of some head injuries and possible prevent death from happening as the result of a fall or other occurrences.  I am not relying on the Agent or anyone affiliated with the Agent to provide a certified equestrian helmet or headgear for me\, to check any helmet or strap that I may wear or to monitor my compliance with this suggestion at any time – now or in the future.  Children under the age of 18 must wear a helmet.  If I choose to wear an ASTMstandard/SEI certified helmet and headgear\, or if I choose not to\, this is my decision alone.   \nUnder Colorado Law\, an equine professional is not liable for any injury to or the death of a participant in equine activities resulting from the inherent risks of equine activities pursuant to section 13-2-120\, Colorado Revised Statutes.  \nI HAVE READ THIS ASSUMPTION OF RISK\, WAVIER AND RELEASE OF LIABILITY AND I AGREE TO BE FULLY BOUND BY ITS TERMS.  I UNDERSTAND THAT THIS IS A RELEASE OF CLAIMS AND THAT I AM ASSUMING RISKS INHERENT TO MY PARTICIPATION. Participant SignatureParent / Guardian ConsentParent / Guardian Consent If the participant is under 18 years of age\, the Participant’s parent or guardian must read and sign below\, indicating his or her acceptance.The undersigned declares that he or she is the parent or legal guardian of the participant and is over 21 years of age.  The undersigned has read this Assumption of Risk\, Wavier and Release of Liability\, and agrees that all of the terms and conditions contained herein shall be binding upon both the undersigned and the Participant.  \nEVENT NAME: CH Equine Clinic   | Date: April 11th-12th \nParent / Guardian Name\n                            \n                            \n                                                    \n                                                    First\n                                                \n                            \n                            \n                                                    \n                                                    Last\n                                                \n                            \n                        Parent / Guardian Email\n                            \n                        Parent / Guardian Phone\n          \n            \n            \n            \n            \n            \n            \n            \n            \n            \n            \n            \n            \n            \n        \n                        Δ
URL:https://wdaco.org/event/introduction-to-western-dressage-clinic/
LOCATION:Judges Choice Training Center\, 6771 Highway 79\, Bennett\, Colorado\, 80102
CATEGORIES:WDACO Event,Western Dressage Clinic
ATTACH;FMTTYPE=image/jpeg:https://wdaco.org/wp-content/uploads/2019/03/cropped-WDACO-Logo-HiRes_496x198.jpg
END:VEVENT
BEGIN:VEVENT
DTSTART;TZID=America/Denver:20260710T000000
DTEND;TZID=America/Denver:20260710T235959
DTSTAMP:20260423T170906
CREATED:20260317T144249Z
LAST-MODIFIED:20260317T144251Z
UID:15728-1783641600-1783727999@wdaco.org
SUMMARY:Latigo Show Series 2026 - July
DESCRIPTION: Boyer Performance Horses and The Elegant Rider present\n\n\n\nLatigo SummerDressage Schooling Show Series 2026Western dressage and dressage schooling showShow Dates: Jun 26 – Jul 10 – Aug 7(Show arena indoor\, warm-up outdoor) \n\n\n\nOpening Date:  4 weeks before show date  Closing Date: One Week before show date Online entries accepted until three days before show date unless show is filled \n\n\n\nSecretary: Simone Windeler  \n\n\n\nDownload Showbill\n\n\n\n\n\nOrganizer
URL:https://wdaco.org/event/latigo-show-series-2026-july/
LOCATION:Latigo Trails Equestrian Center\, 13710 Hallelujah Trail\, Elbert\, CO\, 80106\, United States
CATEGORIES:Schooling Show,WDACO High Point Recognized Events
ATTACH;FMTTYPE=image/jpeg:https://wdaco.org/wp-content/uploads/2025/02/Latigo-logo.jpg
END:VEVENT
BEGIN:VEVENT
DTSTART;TZID=America/Denver:20260724T000000
DTEND;TZID=America/Denver:20260724T235959
DTSTAMP:20260423T170906
CREATED:20260317T141801Z
LAST-MODIFIED:20260317T141906Z
UID:15720-1784851200-1784937599@wdaco.org
SUMMARY:Classical Horse Club Equestrian Extravaganza
DESCRIPTION:Located at the Of HORSE You Can! arena at the Denver Polo Club in Sedalia\, CO.  \n\n\n\nOpening Date: June 26\, 2026 Closing Date: One week before show date The Celebration of the Horse holds unique events with one goal in mind\, FUN!Our desire at Of HORSE You Can! events\, is to bring the fun back into horse showing with a quality experience for both the spectator and the rider. \n\n\n\nWDACO High Point Qualifier \n\n\n\nDownload Showbill
URL:https://wdaco.org/event/classical-horse-club-equestrian-extravaganza/
LOCATION:Denver Polo Club\, 6359 Airport Road\, Sedalia\, Colorado\, 80135
CATEGORIES:Schooling Show,WDACO High Point Recognized Events
ATTACH;FMTTYPE=image/jpeg:https://wdaco.org/wp-content/uploads/2025/01/Celebration-of-Horse.jpg
END:VEVENT
BEGIN:VEVENT
DTSTART;TZID=America/Denver:20260726T080000
DTEND;TZID=America/Denver:20260726T170000
DTSTAMP:20260423T170906
CREATED:20260210T132326Z
LAST-MODIFIED:20260405T225610Z
UID:15579-1785052800-1785085200@wdaco.org
SUMMARY:Northern Colorado Show
DESCRIPTION:WDACO is excited to offer this favorite summer Western Dressage Show at our newly added venue\, Tomora Training Center\, located in Greeley\, CO! This show is WDACO\, WDAA & AQHA High Point Qualified and will be judged by Sharron Sarchet. \n\n\n\n\n\nHave you enrolled in the High Point Program for 2026?\n\n\n\n\n\nHigh Point Enrollment
URL:https://wdaco.org/event/northern-colorado-show-2/
LOCATION:Tomora Training Center\, 11000 U.S Hwy 34\, Greeley\, CO\, 80634
CATEGORIES:WDACO Event,WDACO Shows
ATTACH;FMTTYPE=image/jpeg:https://wdaco.org/wp-content/uploads/2019/03/cropped-WDACO-Logo-HiRes_496x198.jpg
END:VEVENT
BEGIN:VEVENT
DTSTART;TZID=America/Denver:20260807T000000
DTEND;TZID=America/Denver:20260807T235959
DTSTAMP:20260423T170906
CREATED:20260317T144339Z
LAST-MODIFIED:20260317T144340Z
UID:15730-1786060800-1786147199@wdaco.org
SUMMARY:Latigo Show Series 2026 - August
DESCRIPTION: Boyer Performance Horses and The Elegant Rider present\n\n\n\nLatigo SummerDressage Schooling Show Series 2026Western dressage and dressage schooling showShow Dates: Jun 26 – Jul 10 – Aug 7(Show arena indoor\, warm-up outdoor) \n\n\n\nOpening Date:  4 weeks before show date  Closing Date: One Week before show date Online entries accepted until three days before show date unless show is filled \n\n\n\nSecretary: Simone Windeler  \n\n\n\nDownload Showbill\n\n\n\n\n\nOrganizer
URL:https://wdaco.org/event/latigo-show-series-2026-august/
LOCATION:Latigo Trails Equestrian Center\, 13710 Hallelujah Trail\, Elbert\, CO\, 80106\, United States
CATEGORIES:Schooling Show,WDACO High Point Recognized Events
ATTACH;FMTTYPE=image/jpeg:https://wdaco.org/wp-content/uploads/2025/02/Latigo-logo.jpg
END:VEVENT
BEGIN:VEVENT
DTSTART;TZID=America/Denver:20260822T000000
DTEND;TZID=America/Denver:20260823T235959
DTSTAMP:20260423T170906
CREATED:20260212T211240Z
LAST-MODIFIED:20260212T211241Z
UID:15592-1787356800-1787529599@wdaco.org
SUMMARY:GVDS Schooling Show II
DESCRIPTION:GVDS Schooling Show II – Presented by Jeffie Pike CPAOpen:   July 27 \, 2026     Close:  August 10\, 2026Judge:  Marie Maloney (KS)\, Dressage “R”; USEF Western Dressage “R”; Recognitions:  WDAA/WDACO/AQHA-Western
URL:https://wdaco.org/event/gvds-schooling-show-ii-2/
LOCATION:Mesa County Fairgrounds\, 2785 US-50\, Grand Junction\, CO\, 81503\, United States
CATEGORIES:Schooling Show,WDACO High Point Recognized Events
ATTACH;FMTTYPE=image/jpeg:https://wdaco.org/wp-content/uploads/2025/01/Grand-Valley-Dressage.jpg
ORGANIZER;CN="Grand Valley Dressage Society":MAILTO:info@gvds.org
END:VEVENT
BEGIN:VEVENT
DTSTART;TZID=America/Denver:20260822T080000
DTEND;TZID=America/Denver:20260822T170000
DTSTAMP:20260423T170906
CREATED:20260210T132718Z
LAST-MODIFIED:20260415T132337Z
UID:15581-1787385600-1787418000@wdaco.org
SUMMARY:Summer Sizzler Show I
DESCRIPTION:WDACO presents \n\n\n\nAnnual Summer Sizzler I and II Western Dressage and Dressage Schooling Show\n\n\n\nElevate Ranch – Indoor1050 S Manila Rd\, Bennett\, CO 80102Show Date: Aug 22 and 23\, 2026Qualifier for the WDAA World Show \n\n\n\nWDAA Horse Lifetime Points and Awards Program \n\n\n\nWDACO RecognizedWDAA Summer Sizzler I 26-289WDAA Summer Sizzler II 26-290 \n\n\n\nAQHA Summer Sizzler I 916476 (Western Dressage classes only)AQHA Summer Sizzler II 916477 (Western Dressage classes only) \n\n\n\nWDACO is very excited to bring you our annual Summer Sizzler two day show to this amazing facility that is new to welcoming Wester Dressage! Come ride on one or both days\, appreciate this new venue and finish out your summer series on a high note with high scores! We are very excited to partner with Elevate ranch for this two day event! \n\n\n\nPrize List\n\n\n\n\n\nJune Jubilee Hotel: We secured a special rate at the Comfort Suites in Castle Rock. The WDACO rate is $119.Participants need to ask for the group rate of WESTERN DRESSAGE 26; they will pay individually. \n\n\n\nSummer Sizzler Hotel:  Discounted Room Rates at Comfort Suites in Bennett\, only about 8.5  miles from Elevate Ranch.   Rates are $134 – King room and $139 – Double Queen.  Ask for WESTERN DRESSAGE SHOW 2026 when booking.   \n\n\n\n\n\n\n\nHave you enrolled in the High Point Program for 2026?\n\n\n\n\n\nHigh Point Enrollment
URL:https://wdaco.org/event/summer-sizzler-show-i/
LOCATION:Elevate Ranch\, 1050 S Manila Rd\, Bennett\, Colorado\, 80102
CATEGORIES:WDACO Event,WDACO High Point Recognized Events
ATTACH;FMTTYPE=image/jpeg:https://wdaco.org/wp-content/uploads/2019/03/cropped-WDACO-Logo-HiRes_496x198.jpg
END:VEVENT
BEGIN:VEVENT
DTSTART;TZID=America/Denver:20260823T080000
DTEND;TZID=America/Denver:20260823T170000
DTSTAMP:20260423T170906
CREATED:20260210T132837Z
LAST-MODIFIED:20260415T132451Z
UID:15585-1787472000-1787504400@wdaco.org
SUMMARY:Summer Sizzler Show II
DESCRIPTION:WDACO presents \n\n\n\nAnnual Summer Sizzler I and II Western Dressage and Dressage Schooling Show\n\n\n\nElevate Ranch – Indoor1050 S Manila Rd\, Bennett\, CO 80102Show Date: Aug 22 and 23\, 2026Qualifier for the WDAA World Show \n\n\n\nWDAA Horse Lifetime Points and Awards Program \n\n\n\nWDACO RecognizedWDAA Summer Sizzler I 26-289WDAA Summer Sizzler II 26-290 \n\n\n\nAQHA Summer Sizzler I 916476 (Western Dressage classes only)AQHA Summer Sizzler II 916477 (Western Dressage classes only) \n\n\n\nWDACO is very excited to bring you our annual Summer Sizzler two day show to this amazing facility that is new to welcoming Wester Dressage! Come ride on one or both days\, appreciate this new venue and finish out your summer series on a high note with high scores! We are very excited to partner with Elevate ranch for this two day event! \n\n\n\nPrize List\n\n\n\n\n\nJune Jubilee Hotel: We secured a special rate at the Comfort Suites in Castle Rock. The WDACO rate is $119.Participants need to ask for the group rate of WESTERN DRESSAGE 26; they will pay individually. \n\n\n\nSummer Sizzler Hotel:  Discounted Room Rates at Comfort Suites in Bennett\, only about 8.5  miles from Elevate Ranch.   Rates are $134 – King room and $139 – Double Queen.  Ask for WESTERN DRESSAGE SHOW 2026 when booking.   \n\n\n\n\n\n\n\nHave you enrolled in the High Point Program for 2026?\n\n\n\n\n\nHigh Point Enrollment
URL:https://wdaco.org/event/summer-sizzler-show-ii/
LOCATION:Elevate Ranch\, 1050 S Manila Rd\, Bennett\, Colorado\, 80102
CATEGORIES:WDACO Event,WDACO High Point Recognized Events
ATTACH;FMTTYPE=image/jpeg:https://wdaco.org/wp-content/uploads/2019/03/cropped-WDACO-Logo-HiRes_496x198.jpg
END:VEVENT
BEGIN:VEVENT
DTSTART;TZID=America/Denver:20260828T000000
DTEND;TZID=America/Denver:20260828T235959
DTSTAMP:20260423T170906
CREATED:20260317T145255Z
LAST-MODIFIED:20260317T145256Z
UID:15732-1787875200-1787961599@wdaco.org
SUMMARY:Latigo Show Series 2026 - August 28
DESCRIPTION: Boyer Performance Horses and The Elegant Rider present\n\n\n\nLatigo SummerDressage Schooling Show Series 2026Western dressage and dressage schooling showShow Dates: Fri Aug 28 – Wed Sep 9 – Wed Sep 30(Show arena indoor\, warm-up outdoor) \n\n\n\nOpening Date:  4 weeks before show date  Closing Date: One Week before show date Online entries accepted until three days before show date unless show is filled \n\n\n\nSecretary: Simone Windeler  \n\n\n\nDownload Showbill\n\n\n\n\n\nOrganizer
URL:https://wdaco.org/event/latigo-show-series-2026-august-28/
LOCATION:Latigo Trails Equestrian Center\, 13710 Hallelujah Trail\, Elbert\, CO\, 80106\, United States
CATEGORIES:Schooling Show,WDACO High Point Recognized Events
ATTACH;FMTTYPE=image/jpeg:https://wdaco.org/wp-content/uploads/2025/02/Latigo-logo.jpg
END:VEVENT
BEGIN:VEVENT
DTSTART;TZID=America/Denver:20260906T000000
DTEND;TZID=America/Denver:20260906T235959
DTSTAMP:20260423T170906
CREATED:20260317T140923Z
LAST-MODIFIED:20260317T141124Z
UID:15715-1788652800-1788739199@wdaco.org
SUMMARY:Celebration Eleventh Hour Show
DESCRIPTION:Located at the Of HORSE You Can! arena at the Denver Polo Club in Sedalia\, CO.  \n\n\n\nOpening Date: August 9\, 2026 Closing Date: September 2\, 2026 The Celebration of the Horse holds unique events with one goal in mind\, FUN!Our desire at Of HORSE You Can! events\, is to bring the fun back into horse showing with a quality experience for both the spectator and the rider. \n\n\n\nWDACO recognized RMDS #1131 \n\n\n\nDownload Showbill
URL:https://wdaco.org/event/celebration-eleventh-hour-show/
LOCATION:Denver Polo Club\, 6359 Airport Road\, Sedalia\, Colorado\, 80135
CATEGORIES:i. e. USEF,WDACO High Point Recognized Events
ATTACH;FMTTYPE=image/jpeg:https://wdaco.org/wp-content/uploads/2025/01/Celebration-of-Horse.jpg
END:VEVENT
BEGIN:VEVENT
DTSTART;TZID=America/Denver:20260909T000000
DTEND;TZID=America/Denver:20260909T235959
DTSTAMP:20260423T170906
CREATED:20260317T145429Z
LAST-MODIFIED:20260317T145431Z
UID:15734-1788912000-1788998399@wdaco.org
SUMMARY:Latigo Show Series 2026 - September
DESCRIPTION: Boyer Performance Horses and The Elegant Rider present\n\n\n\nLatigo SummerDressage Schooling Show Series 2026Western dressage and dressage schooling showShow Dates: Fri Aug 28 – Wed Sep 9 – Wed Sep 30(Show arena indoor\, warm-up outdoor) \n\n\n\nOpening Date:  4 weeks before show date  Closing Date: One Week before show date Online entries accepted until three days before show date unless show is filled \n\n\n\nSecretary: Simone Windeler  \n\n\n\nDownload Showbill\n\n\n\n\n\nOrganizer
URL:https://wdaco.org/event/latigo-show-series-2026-september/
LOCATION:Latigo Trails Equestrian Center\, 13710 Hallelujah Trail\, Elbert\, CO\, 80106\, United States
CATEGORIES:Schooling Show,WDACO High Point Recognized Events
ATTACH;FMTTYPE=image/jpeg:https://wdaco.org/wp-content/uploads/2025/02/Latigo-logo.jpg
END:VEVENT
BEGIN:VEVENT
DTSTART;TZID=America/Denver:20260930T000000
DTEND;TZID=America/Denver:20260930T235959
DTSTAMP:20260423T170906
CREATED:20260317T145510Z
LAST-MODIFIED:20260317T145511Z
UID:15736-1790726400-1790812799@wdaco.org
SUMMARY:Latigo Show Series 2026 - September 30
DESCRIPTION: Boyer Performance Horses and The Elegant Rider present\n\n\n\nLatigo SummerDressage Schooling Show Series 2026Western dressage and dressage schooling showShow Dates: Fri Aug 28 – Wed Sep 9 – Wed Sep 30(Show arena indoor\, warm-up outdoor) \n\n\n\nOpening Date:  4 weeks before show date  Closing Date: One Week before show date Online entries accepted until three days before show date unless show is filled \n\n\n\nSecretary: Simone Windeler  \n\n\n\nDownload Showbill\n\n\n\n\n\nOrganizer
URL:https://wdaco.org/event/latigo-show-series-2026-september-30/
LOCATION:Latigo Trails Equestrian Center\, 13710 Hallelujah Trail\, Elbert\, CO\, 80106\, United States
CATEGORIES:Schooling Show,WDACO High Point Recognized Events
ATTACH;FMTTYPE=image/jpeg:https://wdaco.org/wp-content/uploads/2025/02/Latigo-logo.jpg
END:VEVENT
BEGIN:VEVENT
DTSTART;TZID=America/Denver:20261003T000000
DTEND;TZID=America/Denver:20261004T235959
DTSTAMP:20260423T170906
CREATED:20260212T212129Z
LAST-MODIFIED:20260213T214733Z
UID:15595-1790985600-1791158399@wdaco.org
SUMMARY:GVDS Schooling Show III
DESCRIPTION:GVDS Schooling Show III – Presented by Jeffie Pike CPAOpen:   September  14 \, 2026     Close:  September 28\, 2026Judge:  Carol Bishop (NC)\, Dressage “R”; USEF Western Dressage “R”; Recognitions:  WDAA/WDACO/AQHA-Western
URL:https://wdaco.org/event/gvds-schooling-show-iii-2/
LOCATION:Mesa County Fairgrounds\, 2785 US-50\, Grand Junction\, CO\, 81503\, United States
CATEGORIES:Schooling Show,WDACO High Point Recognized Events
ATTACH;FMTTYPE=image/jpeg:https://wdaco.org/wp-content/uploads/2025/01/Grand-Valley-Dressage.jpg
ORGANIZER;CN="Grand Valley Dressage Society":MAILTO:info@gvds.org
END:VEVENT
END:VCALENDAR