BEGIN:VCALENDAR
VERSION:2.0
PRODID:-//Western Dressage Association® of Colorado - ECPv6.15.20//NONSGML v1.0//EN
CALSCALE:GREGORIAN
METHOD:PUBLISH
X-WR-CALNAME:Western Dressage Association® of Colorado
X-ORIGINAL-URL:https://wdaco.org
X-WR-CALDESC:Events for Western Dressage Association® of Colorado
REFRESH-INTERVAL;VALUE=DURATION:PT1H
X-Robots-Tag:noindex
X-PUBLISHED-TTL:PT1H
BEGIN:VTIMEZONE
TZID:America/Denver
BEGIN:DAYLIGHT
TZOFFSETFROM:-0700
TZOFFSETTO:-0600
TZNAME:MDT
DTSTART:20230312T090000
END:DAYLIGHT
BEGIN:STANDARD
TZOFFSETFROM:-0600
TZOFFSETTO:-0700
TZNAME:MST
DTSTART:20231105T080000
END:STANDARD
BEGIN:DAYLIGHT
TZOFFSETFROM:-0700
TZOFFSETTO:-0600
TZNAME:MDT
DTSTART:20240310T090000
END:DAYLIGHT
BEGIN:STANDARD
TZOFFSETFROM:-0600
TZOFFSETTO:-0700
TZNAME:MST
DTSTART:20241103T080000
END:STANDARD
BEGIN:DAYLIGHT
TZOFFSETFROM:-0700
TZOFFSETTO:-0600
TZNAME:MDT
DTSTART:20250309T090000
END:DAYLIGHT
BEGIN:STANDARD
TZOFFSETFROM:-0600
TZOFFSETTO:-0700
TZNAME:MST
DTSTART:20251102T080000
END:STANDARD
END:VTIMEZONE
BEGIN:VEVENT
DTSTART;TZID=America/Denver:20240629T090000
DTEND;TZID=America/Denver:20240629T170000
DTSTAMP:20260424T022851
CREATED:20240602T132813Z
LAST-MODIFIED:20250707T204448Z
UID:14271-1719651600-1719680400@wdaco.org
SUMMARY:Clinic: How to Improve Your Test Scores
DESCRIPTION:Clinician: Ann Judge\n\n\n\n\n\n\n\nYou may know Ann Judge as the rider of“Thunder”\, the Denver Broncos mascot\, but did you know she also holds 7 breed and discipline Judge’s Cards\, among them Western Dressage? She has judged locally\, nationally and internationally since1993\, and has shown Arabian and Half-Arabian horses to National awards\, most recently in Western Dressage at the 2023 Sport Horse Nationals. This 2020 APHA Horsewoman of the Year is excited to help you improve your scores! \n\n\n\nClinic Description – This clinic is designed to help riders improve their Western Dressage test scores by 1) helping participants understand the most common challenges that cost riders to lose points and 2) learning techniques to avoid those costly and common mistakes! \n\n\n\nClinic Schedule9AM to 5PMParticipants interested in Walk/Trot or Walk/Trot/Canter levels are welcome!Ride times will be provided once registration has closed.Participants and Auditors are welcome and encouraged to attend for the full day to listen\, watch and learn from one another. \n\n\n\nClinic session $85 Auditor: free / WDACO Members $20 / Non-members \n\n\n\nRegistration deadline is June 25\, 2024 \n\n\n\nEvent Details
URL:https://wdaco.org/event/clinic-how-to-improve-your-test-scores/
LOCATION:Douglas County Fairgrounds-Indoor Arena\, 500 Fairgrounds Drive\, Castle Rock\, CO\, 80104\, United States
CATEGORIES:WDACO Clinics
ATTACH;FMTTYPE=image/png:https://wdaco.org/wp-content/uploads/2023/11/WDACO-logo.png
END:VEVENT
BEGIN:VEVENT
DTSTART;TZID=America/Denver:20240628T080000
DTEND;TZID=America/Denver:20240628T170000
DTSTAMP:20260424T022851
CREATED:20240401T130824Z
LAST-MODIFIED:20240401T130826Z
UID:13896-1719561600-1719594000@wdaco.org
SUMMARY:Latigo Summer 2
DESCRIPTION: Boyer Performance Horses and The Elegant Rider present\n\n\n\nLatigo SummerDressage Schooling Show Series 2024Western dressage and dressage schooling show \n\n\n\nDownload Showbill\n\n\n\nOpening Date:  4 weeks before show date  Closing Date: One Week before show date Online entries accepted until three days before show date unlessshow is filled \n\n\n\nJudge: Friday\, May 31  – Simone Windeler USEF Western R\, USDF LFriday\, Jun 28 – Simone Windeler USEF Western R\, USDF LFriday\, Jul 12  – Simone Windeler USEF Western R\, USDF L \n\n\n\nSecretary: Simone Windeler Questions: Call Simone (719) 287-2040 or e-mail simonedressage@gmail.com \n\n\n\n \n\n\n\n\n\nOrganizer
URL:https://wdaco.org/event/latigo-summer-2/
LOCATION:Latigo Trails Equestrian Center\, 13710 Hallelujah Trail\, Elbert\, CO\, 80106\, United States
CATEGORIES:Schooling Show,WDACO High Point Recognized Events
END:VEVENT
BEGIN:VEVENT
DTSTART;TZID=America/Denver:20240622T080000
DTEND;TZID=America/Denver:20240622T170000
DTSTAMP:20260424T022851
CREATED:20240429T120130Z
LAST-MODIFIED:20240429T120808Z
UID:14091-1719043200-1719075600@wdaco.org
SUMMARY:Northern Colorado Dressage Association Schooling Show II
DESCRIPTION:Come have a fun day showing with us! Located at the beautiful Tomora Training Center in Greeley\, CO.Western Dressage classes from Basic through 4th Level!Entries open Now through June 7\, 2024.
URL:https://wdaco.org/event/northern-colorado-dressage-association-schooling-show-ii/
LOCATION:Tomora Training Center\, 11000 Hwy 34\, Greeley\, Colorado\, Colorado\, 80634\, United States
ORGANIZER;CN="Northern Colorado Dressage Association":MAILTO:speerdressage@gmail.com
END:VEVENT
BEGIN:VEVENT
DTSTART;TZID=America/Denver:20240601T080000
DTEND;TZID=America/Denver:20240601T170000
DTSTAMP:20260424T022851
CREATED:20240331T215338Z
LAST-MODIFIED:20240401T121012Z
UID:13830-1717228800-1717261200@wdaco.org
SUMMARY:Celebration Dressage
DESCRIPTION:Western dressage and dressage schooling show \n\n\n\nOpening Date April 15\, 2024 Closing Date May 25\, 2024Located at the Of HORSE You Can! arena at the Denver Polo Club \n\n\n\nDownload Showbill
URL:https://wdaco.org/event/celebration-dressage/
LOCATION:Denver Polo Club\, 6359 Airport Road\, Sedalia\, Colorado\, 80135
CATEGORIES:Schooling Show,WDACO High Point Recognized Events
END:VEVENT
BEGIN:VEVENT
DTSTART;TZID=America/Denver:20240601T080000
DTEND;TZID=America/Denver:20240601T170000
DTSTAMP:20260424T022851
CREATED:20240214T022915Z
LAST-MODIFIED:20240531T164454Z
UID:13511-1717228800-1717261200@wdaco.org
SUMMARY:Introduction to Western Dressage
DESCRIPTION:Interested in Western Dressage? Come join us and other like minded horse people! Learn how WD can benefit you and your horse. All breeds and all rider levels welcome! \n\n\n\nAuditors and Participants are welcome and encouraged to attend for the full day to listen\, watch and learn from one another. \n\n\n\nClinician: Julie Haugen\, Western Dressage ‘R’ judge \n\n\n\nEvent Details
URL:https://wdaco.org/event/june-1-introduction-to-western-dressage/
LOCATION:Bell Mountain Ranch Equestrian Center\, 96 Bell Mountain Pkwy\, Castle Rock\, Colorado\, 80104
ATTACH;FMTTYPE=image/png:https://wdaco.org/wp-content/uploads/2024/05/image.png
END:VEVENT
BEGIN:VEVENT
DTSTART;TZID=America/Denver:20240531T080000
DTEND;TZID=America/Denver:20240531T170000
DTSTAMP:20260424T022851
CREATED:20240401T125345Z
LAST-MODIFIED:20240423T193504Z
UID:13885-1717142400-1717174800@wdaco.org
SUMMARY:Latigo Summer 1
DESCRIPTION: Boyer Performance Horses and The Elegant Rider present\n\n\n\nLatigo SummerDressage Schooling Show Series 2024Western dressage and dressage schooling show \n\n\n\nDownload Showbill\n\n\n\nOpening Date:  4 weeks before show date  Closing Date: One Week before show date Online entries accepted until three days before show date unlessshow is filled \n\n\n\nJudge: Friday\, May 31  – Simone Windeler USEF Western R\, USDF LFriday\, Jun 28 – Simone Windeler USEF Western R\, USDF LFriday\, Jul 12  – Simone Windeler USEF Western R\, USDF L \n\n\n\nSecretary: Simone Windeler Questions: Call Simone (719) 287-2040 or e-mail simonedressage@gmail.com \n\n\n\n \n\n\n\n\n\nOrganizer
URL:https://wdaco.org/event/latigo-summer-1/
LOCATION:Latigo Trails Equestrian Center\, 13710 Hallelujah Trail\, Elbert\, CO\, 80106\, United States
CATEGORIES:Schooling Show,WDACO High Point Recognized Events
END:VEVENT
BEGIN:VEVENT
DTSTART;TZID=America/Denver:20240531T080000
DTEND;TZID=America/Denver:20240531T170000
DTSTAMP:20260424T022851
CREATED:20231122T215610Z
LAST-MODIFIED:20231124T152904Z
UID:13276-1717142400-1717174800@wdaco.org
SUMMARY:GVDS Summertime Warm Up Show 2024
DESCRIPTION:WDAA/WDACO\njudge: Renee Johnson\nVisit Event Website for Details\nDarby Savoca\n970.314.1454\ndarbysavoca@gmail.com
URL:https://wdaco.org/event/gvds-summertime-warm-up-show-2024/
LOCATION:Mesa County Fairgrounds\, 2785 US-50\, Grand Junction\, CO\, 81503\, United States
CATEGORIES:Other Shows,WDACO High Point Recognized Events
ORGANIZER;CN="Green Valley Dressage Society":MAILTO:darbysavoca@gmail.com
END:VEVENT
BEGIN:VEVENT
DTSTART;TZID=America/Denver:20240519T000000
DTEND;TZID=America/Denver:20240519T235959
DTSTAMP:20260424T022851
CREATED:20231216T131753Z
LAST-MODIFIED:20240426T163537Z
UID:13392-1716076800-1716163199@wdaco.org
SUMMARY:WDACO 2024 North Show
DESCRIPTION:Welcome to the First of Three WDACO / WDAA shows! Your points earned count towards WDAA/WDACO Qualifiers – please see each organizations requirements! \n2024 WDACO North Show; May 19\, 2024 @ Circle Star Arena\, Platteville\, ColoradoJudge Gail Matheus\, WD-RShow Manager: Jacki Rosellen; jrosellen.secretary@wdaco.orgShow Secretary: Didi DeKrey; pasdekrey2015@gmail.comJoin us for this year’s first of three WDACO Western Dressage shows!All shows are WDAA and WDACO recognized for High Points and Annual Awards!Show is open NOW for entries! Early entries end May 4\, 2024. Don’t delay!Enter the show using the forms attached\, or use the Horse Shows Online portal \n  \n\n\nDownload Prizelist\n\nDownload Entry form
URL:https://wdaco.org/event/northern-colorado-schooling-show/
LOCATION:Circle Star Arena\, 16191 County Road 17\, Platteville\, CO\, 80651\, United States
CATEGORIES:WDACO High Point Recognized Events
END:VEVENT
BEGIN:VEVENT
DTSTART;TZID=America/Denver:20240511T000000
DTEND;TZID=America/Denver:20240511T235959
DTSTAMP:20260424T022851
CREATED:20240411T151548Z
LAST-MODIFIED:20240411T151916Z
UID:13961-1715385600-1715471999@wdaco.org
SUMMARY:2024 Bayou Gulch Combined Test - XC & Dressage Schooling
DESCRIPTION:– Helmets and boots with heels required by all riders\, including Western riders.– Vest AND medical arm/wrist band for cross-country required if jumping.– Western Dressage riders are encouraged to enter and ride the cross-countrycourse “jumps optional” level to enjoy the cross-country/open space– Bring your own pinny holder for xc numbers; Western riders can pin xc numberon saddle pad or clothing.– Dressage tests may be read.2022 WDAA Basic Level Tests 1-4 and Intro Level Tests 1-4 only.\n\n\n\nDownload Flyer
URL:https://wdaco.org/event/2024-bayou-gulch-combined-test-xc-dressage-schooling/
LOCATION:Bayou Gulch Open Space\, 7375 Bayou Gulch Road\, Parker\, CO\, 80134
CATEGORIES:Schooling Show
ORGANIZER;CN="BGOSI (Bayou Gulch Open Space Initiative)":MAILTO:kmrad12@hotmail.com
END:VEVENT
END:VCALENDAR