BEGIN:VCALENDAR
VERSION:2.0
PRODID:-//Western Dressage Association® of Colorado - ECPv6.15.20//NONSGML v1.0//EN
CALSCALE:GREGORIAN
METHOD:PUBLISH
X-WR-CALNAME:Western Dressage Association® of Colorado
X-ORIGINAL-URL:https://wdaco.org
X-WR-CALDESC:Events for Western Dressage Association® of Colorado
REFRESH-INTERVAL;VALUE=DURATION:PT1H
X-Robots-Tag:noindex
X-PUBLISHED-TTL:PT1H
BEGIN:VTIMEZONE
TZID:America/Denver
BEGIN:DAYLIGHT
TZOFFSETFROM:-0700
TZOFFSETTO:-0600
TZNAME:MDT
DTSTART:20230312T090000
END:DAYLIGHT
BEGIN:STANDARD
TZOFFSETFROM:-0600
TZOFFSETTO:-0700
TZNAME:MST
DTSTART:20231105T080000
END:STANDARD
BEGIN:DAYLIGHT
TZOFFSETFROM:-0700
TZOFFSETTO:-0600
TZNAME:MDT
DTSTART:20240310T090000
END:DAYLIGHT
BEGIN:STANDARD
TZOFFSETFROM:-0600
TZOFFSETTO:-0700
TZNAME:MST
DTSTART:20241103T080000
END:STANDARD
BEGIN:DAYLIGHT
TZOFFSETFROM:-0700
TZOFFSETTO:-0600
TZNAME:MDT
DTSTART:20250309T090000
END:DAYLIGHT
BEGIN:STANDARD
TZOFFSETFROM:-0600
TZOFFSETTO:-0700
TZNAME:MST
DTSTART:20251102T080000
END:STANDARD
END:VTIMEZONE
BEGIN:VEVENT
DTSTART;TZID=America/Denver:20240710T080000
DTEND;TZID=America/Denver:20240710T170000
DTSTAMP:20260424T153048
CREATED:20240401T131837Z
LAST-MODIFIED:20240401T132121Z
UID:13901-1720598400-1720630800@wdaco.org
SUMMARY:Split Pine Ranch - Summer 1
DESCRIPTION:Split Pine RanchDressage Schooling Show Series 2024A mid-week show series\n\n\n\n15385 Black Forest Rd\, Colo Springs 80908Show Dates: July 10 – Sep 4 WDACO High Point recognized \n\n\n\nDownload Showbill\n\n\n\nOpening Date:  4 weeks before show date  Closing Date: One Week before show date Online entries accepted until three days before show date unlessshow is filled \n\n\n\nJudge: Wednesday\, July 10  – Simone Windeler\, USEF Western Dressage R\, USDF LWednesday\, Sep 4  – Simone Windeler\, USEF Western Dressage R\, USDF L \n\n\n\nSecretary: Simone Windeler Questions: Call Simone (719) 287-2040 or e-mail simonedressage@gmail.com \n\n\n\n \n\n\n\n\n\nOrganizer
URL:https://wdaco.org/event/split-pine-ranch-summer-1/
LOCATION:Split Pine Ranch\, 15385 Black Forest Road\, Black Forest\, CO\, 80908\, United States
CATEGORIES:Schooling Show,WDACO High Point Recognized Events
END:VEVENT
BEGIN:VEVENT
DTSTART;TZID=America/Denver:20240712T080000
DTEND;TZID=America/Denver:20240712T170000
DTSTAMP:20260424T153048
CREATED:20240401T130944Z
LAST-MODIFIED:20240401T130946Z
UID:13898-1720771200-1720803600@wdaco.org
SUMMARY:Latigo Summer 3
DESCRIPTION: Boyer Performance Horses and The Elegant Rider present\n\n\n\nLatigo SummerDressage Schooling Show Series 2024Western dressage and dressage schooling show \n\n\n\nDownload Showbill\n\n\n\nOpening Date:  4 weeks before show date  Closing Date: One Week before show date Online entries accepted until three days before show date unlessshow is filled \n\n\n\nJudge: Friday\, May 31  – Simone Windeler USEF Western R\, USDF LFriday\, Jun 28 – Simone Windeler USEF Western R\, USDF LFriday\, Jul 12  – Simone Windeler USEF Western R\, USDF L \n\n\n\nSecretary: Simone Windeler Questions: Call Simone (719) 287-2040 or e-mail simonedressage@gmail.com \n\n\n\n \n\n\n\n\n\nOrganizer
URL:https://wdaco.org/event/latigo-summer-3/
LOCATION:Latigo Trails Equestrian Center\, 13710 Hallelujah Trail\, Elbert\, CO\, 80106\, United States
CATEGORIES:Schooling Show,WDACO High Point Recognized Events
END:VEVENT
BEGIN:VEVENT
DTSTART;TZID=America/Denver:20240717T000000
DTEND;TZID=America/Denver:20240720T235959
DTSTAMP:20260424T153048
CREATED:20240531T165912Z
LAST-MODIFIED:20240531T172439Z
UID:14251-1721174400-1721519999@wdaco.org
SUMMARY:Lorton's Horsemanship 2024 Multi-Day Clinic
DESCRIPTION:LORTON’S HORSEMANSHIP2024 MULTI-DAY HORSE PARTNERSHIP CLINICJULY 17-20 \n\n\n\nWanna have some summer fun.? Come join us for a fun filled four days of learining. Explore your relationship with your horse\, how to develop a respectful relationship while building trust..learning through doing with immediate feedback. Exercises include Western Dressage\, Obstacles\, Outide the arena exercies and more to build your partnership. \n\n\n\nProgressive weekend of riding and evaluation to build a foundation for success. \n\n\n\nEnrollment Form\n\n\n\n\n\nOrganizer
URL:https://wdaco.org/event/lortons-horsemanship-2024-multi-day-clinic/
LOCATION:Lorton’s Horsemanship\, 39761 CR 65\, Galeton\, Colorado\, 80622
CATEGORIES:WDACO Clinics
ORGANIZER;CN="Juilie Lorton":MAILTO:jlorton1974@gmail.com
END:VEVENT
BEGIN:VEVENT
DTSTART;TZID=America/Denver:20240726T000000
DTEND;TZID=America/Denver:20240804T235959
DTSTAMP:20260424T153048
CREATED:20240523T124927Z
LAST-MODIFIED:20240523T194944Z
UID:14197-1721952000-1722815999@wdaco.org
SUMMARY:GVHR's Sizzling Summer Online Show WDAA Recognized
DESCRIPTION:Online Classic and WDAA Recognized Dressage Show\n\n\n\nCompete in WDAA Western Dressage Recognized Shows without leaving the farm.  Simply get a friend to video your test and send it to us for judging and scoring. \n\n\n\nYou may purchase your show entry before the opening date of the show or enter once the show is open.  When the show is Open we will start sending videos to the judges.  \n\n\n\nScoresheets\n\n\n\nThe Judge has 5 business days to judge and return your test.  Once the scores and comments are back we will email you a PDF of your scoresheet. \n\n\n\nScoreboard\n\n\n\nYour score will appear on the scoreboard once we have emailed the scoresheet. Please note the scoreboard is updated at the end of every day. \n\n\n\nRibbons\n\n\n\nOnce the final scores have been published we will pack and dispatch the ribbons and prizes. \n\n\n\n \n\n\n\n\n\n\n\n\n\nDownload Flyer\n\nOnline Registration\n\n\n\nRegistration opens soon
URL:https://wdaco.org/event/gvhrs-sizzling-summer-online-show-wdaa-recognized/
LOCATION:Dressage Show Online
CATEGORIES:i. e. USEF
END:VEVENT
END:VCALENDAR