BEGIN:VCALENDAR
VERSION:2.0
PRODID:-//Western Dressage Association® of Colorado - ECPv6.15.20//NONSGML v1.0//EN
CALSCALE:GREGORIAN
METHOD:PUBLISH
X-WR-CALNAME:Western Dressage Association® of Colorado
X-ORIGINAL-URL:https://wdaco.org
X-WR-CALDESC:Events for Western Dressage Association® of Colorado
REFRESH-INTERVAL;VALUE=DURATION:PT1H
X-Robots-Tag:noindex
X-PUBLISHED-TTL:PT1H
BEGIN:VTIMEZONE
TZID:America/Denver
BEGIN:DAYLIGHT
TZOFFSETFROM:-0700
TZOFFSETTO:-0600
TZNAME:MDT
DTSTART:20230312T090000
END:DAYLIGHT
BEGIN:STANDARD
TZOFFSETFROM:-0600
TZOFFSETTO:-0700
TZNAME:MST
DTSTART:20231105T080000
END:STANDARD
BEGIN:DAYLIGHT
TZOFFSETFROM:-0700
TZOFFSETTO:-0600
TZNAME:MDT
DTSTART:20240310T090000
END:DAYLIGHT
BEGIN:STANDARD
TZOFFSETFROM:-0600
TZOFFSETTO:-0700
TZNAME:MST
DTSTART:20241103T080000
END:STANDARD
BEGIN:DAYLIGHT
TZOFFSETFROM:-0700
TZOFFSETTO:-0600
TZNAME:MDT
DTSTART:20250309T090000
END:DAYLIGHT
BEGIN:STANDARD
TZOFFSETFROM:-0600
TZOFFSETTO:-0700
TZNAME:MST
DTSTART:20251102T080000
END:STANDARD
END:VTIMEZONE
BEGIN:VEVENT
DTSTART;TZID=America/Denver:20240904T080000
DTEND;TZID=America/Denver:20240904T170000
DTSTAMP:20260424T124559
CREATED:20240401T132225Z
LAST-MODIFIED:20240831T131345Z
UID:13904-1725436800-1725469200@wdaco.org
SUMMARY:Split Pine Ranch - Summer 2
DESCRIPTION:Split Pine RanchDressage Schooling Show Series 2024A mid-week show series\n\n\n\n15385 Black Forest Rd\, Colo Springs 80908Show Dates: July 10 – Sep 4 WDACO High Point recognized \n\n\n\nDownload Showbill\n\n\n\nOpening Date:  4 weeks before show date  Closing Date: One Week before show date Online entries accepted until three days before show date unlessshow is filled \n\n\n\nJudge: Wednesday\, July 10  – Simone Windeler\, USEF Western Dressage R\, USDF LWednesday\, Sep 4  – Julie Haugen \n\n\n\nSecretary: Simone Windeler Questions: Call Simone (719) 287-2040 or e-mail simonedressage@gmail.com \n\n\n\n \n\n\n\n\n\nOrganizer
URL:https://wdaco.org/event/split-pine-ranch-summer-2/
LOCATION:Split Pine Ranch\, 15385 Black Forest Road\, Black Forest\, CO\, 80908\, United States
CATEGORIES:Schooling Show,WDACO High Point Recognized Events
ATTACH;FMTTYPE=image/jpeg:https://wdaco.org/wp-content/uploads/2024/04/Split-Pine-Ranch.jpg
END:VEVENT
BEGIN:VEVENT
DTSTART;TZID=America/Denver:20240906T080000
DTEND;TZID=America/Denver:20240906T170000
DTSTAMP:20260424T124559
CREATED:20240604T123142Z
LAST-MODIFIED:20240604T125155Z
UID:14295-1725609600-1725642000@wdaco.org
SUMMARY:New Mexico State Fair Western Dressage Show
DESCRIPTION:Come to Albuquerque to warm up for the WDAA World Show!! This show is not only WDAA and WDACO approved it is also AQHA approved! We go out of our way to have a good time to say nothing of the GOOD food at our fair but also the very good shopping. The Indian building is an annual stop for me for Christmas presents! \n\n\n\nMail entries to Evelyn Huff PO Box 1505\, Alamogordo\, NM 88310swqhahorseshow@gmail.com 575-551-2245Opening Date: June 1\, 2024 Closing Date: August 28\, 2024 \n\n\n\nShowbill and Entry Form
URL:https://wdaco.org/event/new-mexico-state-fair-western-dressage-show/
LOCATION:Expo New Mexico\, 300 San Pedro NE\, Albuquerque\, New Mexico\, 87108
ATTACH;FMTTYPE=image/png:https://wdaco.org/wp-content/uploads/2024/06/new-mexico-state-fair-logo-2024.png
ORGANIZER;CN="New Mexico State Fair":MAILTO:Mariah.Wilson88@yahoo.com
END:VEVENT
BEGIN:VEVENT
DTSTART;TZID=America/Denver:20240907T000000
DTEND;TZID=America/Denver:20240907T235959
DTSTAMP:20260424T124559
CREATED:20240526T170338Z
LAST-MODIFIED:20240526T172254Z
UID:14219-1725667200-1725753599@wdaco.org
SUMMARY:AVDA RMDS Recognized Indoor show
DESCRIPTION:Arkansas Valley Dressage is excited to announce they will be hosting a RECOGNIZED RMDS Show this year on September 7th at 5 Star Equestrian Center in Fountain!! Please use Fox Village to register for this show- we will NOT be accepting paper entries for this show. 5 Star has stalls available to rent (includes 1 bag of shavings) if interested\, as well as RV hookups for LQ trailers. This show is proudly sponsored by MIDWEST ECM REPAIR out of Westcliffe! \n\n\n\nDownload Prizelist\n\nFox Village Online Entry
URL:https://wdaco.org/event/avda-rmds-recognized-indoor-show/
LOCATION:Five Star Equestrian Center\, 18550 Midway Ranch Rd\, Fountain\, Colorado\, 80817
ATTACH;FMTTYPE=image/png:https://wdaco.org/wp-content/uploads/2024/05/AK-Valley-Dressage-logovector.png
ORGANIZER;CN="Arkansas Valley Dressage":MAILTO:simonedressage@gmail.com
END:VEVENT
END:VCALENDAR