BEGIN:VCALENDAR
VERSION:2.0
PRODID:-//Western Dressage Association® of Colorado - ECPv6.15.20//NONSGML v1.0//EN
CALSCALE:GREGORIAN
METHOD:PUBLISH
X-WR-CALNAME:Western Dressage Association® of Colorado
X-ORIGINAL-URL:https://wdaco.org
X-WR-CALDESC:Events for Western Dressage Association® of Colorado
REFRESH-INTERVAL;VALUE=DURATION:PT1H
X-Robots-Tag:noindex
X-PUBLISHED-TTL:PT1H
BEGIN:VTIMEZONE
TZID:America/Denver
BEGIN:DAYLIGHT
TZOFFSETFROM:-0700
TZOFFSETTO:-0600
TZNAME:MDT
DTSTART:20240310T090000
END:DAYLIGHT
BEGIN:STANDARD
TZOFFSETFROM:-0600
TZOFFSETTO:-0700
TZNAME:MST
DTSTART:20241103T080000
END:STANDARD
BEGIN:DAYLIGHT
TZOFFSETFROM:-0700
TZOFFSETTO:-0600
TZNAME:MDT
DTSTART:20250309T090000
END:DAYLIGHT
BEGIN:STANDARD
TZOFFSETFROM:-0600
TZOFFSETTO:-0700
TZNAME:MST
DTSTART:20251102T080000
END:STANDARD
BEGIN:DAYLIGHT
TZOFFSETFROM:-0700
TZOFFSETTO:-0600
TZNAME:MDT
DTSTART:20260308T090000
END:DAYLIGHT
BEGIN:STANDARD
TZOFFSETFROM:-0600
TZOFFSETTO:-0700
TZNAME:MST
DTSTART:20261101T080000
END:STANDARD
END:VTIMEZONE
BEGIN:VEVENT
DTSTART;TZID=America/Denver:20250815T080000
DTEND;TZID=America/Denver:20250815T170000
DTSTAMP:20260423T222956
CREATED:20250203T132353Z
LAST-MODIFIED:20250505T201135Z
UID:14823-1755244800-1755277200@wdaco.org
SUMMARY:Latigo Summer 3
DESCRIPTION: Boyer Performance Horses and The Elegant Rider present\n\n\n\nLatigo SummerDressage Schooling Show Series 2025Western dressage and dressage schooling showShow Dates: Jun 20 – Jul 10 – Aug 15 \n\n\n\nDownload Showbill\n\n\n\nOpening Date:  4 weeks before show date  Closing Date: One Week before show date Online entries accepted until three days before show date unless show is filled \n\n\n\nJudge: Friday\, Jun 20 – Simone Windeler USEF Western R\, USDF L Friday\, Jul 10 – Simone Windeler USEF Western R\, USDF L Friday\, Aug 15 – Simone Windeler USEF Western R\, USDF L \n\n\n\nSecretary: Simone Windeler Questions: Call Simone (719) 287-2040 or e-mail simonedressage@gmail.com \n\n\n\n \n\n\n\n\n\nOrganizer
URL:https://wdaco.org/event/2025-latigo-summer-3/
LOCATION:Latigo Trails Equestrian Center\, 13710 Hallelujah Trail\, Elbert\, CO\, 80106\, United States
CATEGORIES:Schooling Show,WDACO High Point Recognized Events
ATTACH;FMTTYPE=image/jpeg:https://wdaco.org/wp-content/uploads/2025/02/Latigo-logo.jpg
END:VEVENT
BEGIN:VEVENT
DTSTART;TZID=America/Denver:20250815T090000
DTEND;TZID=America/Denver:20250815T170000
DTSTAMP:20260423T222956
CREATED:20250223T132552Z
LAST-MODIFIED:20250804T115607Z
UID:14874-1755248400-1755277200@wdaco.org
SUMMARY:Fix A Test: Tips from the Judge
DESCRIPTION:Julie Haugen\, USEF R WD Judge\, WDAA World Champion and trainer\, will be the clinician for this exciting new take on our previous pre-show clinics.  Participants will get to see Test movements performed by demonstration rider/horse teams and hear judge’s comments in real time.  \n\n\n\nThe day will be divided into two sessions. The morning will include Level 1 riders and above.  The Afternoon will be for Introductory and Basic level riders.  Each half day session will begin with Julie’s presentation of the levels with their specific movements and requirements. She will identify the challenges on which riders typically lose points and where they can earn extra points.  The demonstration horse and rider will be used to clarify where and how the points are typically lost or earned.Each rider will have the opportunity to ride a test and receive feedback on their ride plus requirements that are most often challenging. Afterwards\, the team will ride the test again\, integrating the feedback and increasing their understanding of each. \n\n\n\nClinic Schedule: 9 AM – 5 PMMorning:  Level 1 and above ridersAfternoon: Introductory and Basic Level RidersSpecific ride times will be provided after registration has closed.Clinic Session:  WDACO Members $85   | Non-Members $95Auditor Fee: WDACO members – Free  | Non-Members $20Stall fee per day: $20 \n\n\n\nDownload Clinic Flyer\n\nOnline Application\n\nPrint and Mail Application\n\n\n\nVolunteer Now!\n\n\n\n\n\n\n\nFix-A-Test Registration\n\n\n\nComplete the WDACO entry form below and submit by August 6.  \n\n\n\n\nA horse may only be ridden once during the clinic.\n\n\n\nParticipants may ride multiple times on different horses.\n\n\n\nSubmit one form per horse/rider combination\n\n\n\n\nProof of current vaccinations must be sent via the Vaccinations link. Out-of-state horses require a 30-day health certificate and a negative Coggins issued within the last 12 months.  Make sure to read and sign the waivers on the entry form. \n\n\n\nIf you register online but do not use PayPal\, send a check by mail to WDACO\, PO 476 Castle Rock\, CO. 80104 and email Malinda Jones  malinda.j@comcast.net as soon as possible. Checks must be received by August 14. \n\n\n\nAuditors: Non-Members and Members\n\n\n\nWe welcome everyone interested in Western Dressage or other equine sports to participate in this clinic as a rider or an auditor. This unusual event will increase everyone’s understanding of the sport and the nuances of riding at each level. Please submit this form if you are auditing\, even if you are a member. Type or print your name in the Auditor box and submit either on-line or by mail. There is no cost for WDACO members. The auditor cost for non-members is $20.
URL:https://wdaco.org/event/fix-a-test-tips-from-the-judge-2/
LOCATION:Douglas County Fairgrounds-Indoor Arena\, 500 Fairgrounds Drive\, Castle Rock\, CO\, 80104\, United States
CATEGORIES:WDACO Clinics,Western Dressage Clinic
ATTACH;FMTTYPE=image/jpeg:https://wdaco.org/wp-content/uploads/2025/02/Haugen_Julie_LinkedIn-2.jpg
END:VEVENT
BEGIN:VEVENT
DTSTART;TZID=America/Denver:20250816T000000
DTEND;TZID=America/Denver:20250816T235959
DTSTAMP:20260423T222956
CREATED:20250112T165210Z
LAST-MODIFIED:20250814T121405Z
UID:14723-1755302400-1755388799@wdaco.org
SUMMARY:WDACO Summer Sizzler I
DESCRIPTION:WDACO presents its only two-day show for the 2025 season with two separate judges\, allowing riders to earn points on one or both days.   \n\n\n\nEntries open July 1.  Entries close August 2; late entries accepted if space allows.   \n\n\n\nHere’s your opportunity to earn points on two consecutive days in one location! \n\n\n\nOpen to All BreedsRecognized by WDAA\, WDACO\, AQHA \n\n\n\nJudge: Sharron Sarchet\,  USEF Western Dressage “R” Judge\, USDF ‘r’ and Freestyle Recognized \n\n\n\nRegistration is now closed. \n\n\n\nPrizelist\n\nOnline Fee Payment\n\n\n\nVolunteer Now!\n\n\n\n\n\n\n\n\n\n\n\n\n\nSharron Sarchet\, judge
URL:https://wdaco.org/event/wdaco-summer-sizzler-2/
LOCATION:Douglas County Fairgrounds-Indoor Arena\, 500 Fairgrounds Drive\, Castle Rock\, CO\, 80104\, United States
CATEGORIES:i. e. USEF,Other Type of Show,WDACO High Point Recognized Events,WDACO Shows
ATTACH;FMTTYPE=image/jpeg:https://wdaco.org/wp-content/uploads/2019/03/cropped-WDACO-Logo-HiRes_496x198.jpg
END:VEVENT
BEGIN:VEVENT
DTSTART;TZID=America/Denver:20250817T000000
DTEND;TZID=America/Denver:20250817T235959
DTSTAMP:20260423T222956
CREATED:20250613T133355Z
LAST-MODIFIED:20250814T121516Z
UID:15080-1755388800-1755475199@wdaco.org
SUMMARY:WDACO Summer Sizzler II
DESCRIPTION:WDACO presents its only two-day show for the 2025 season with two separate judges\, allowing riders to earn points on one or both days.   \n\n\n\nEntries open July 1.  Entries close August 2; late entries accepted if space allows.   \n\n\n\nHere’s your opportunity to earn points on two consecutive days in one location! \n\n\n\nOpen to All BreedsRecognized by WDAA\, WDACO\, AQHA \n\n\n\nJudge:  Simone Windeler\, USEF Western Dressage “R” Judge \n\n\n\nRegistration is now closed. \n\n\n\nPrizelist\n\nOnline Fee Payment\n\n\n\nVolunteer Now!\n\n\n\n\n\n\n\n\n\n\n\n\n\nSimone Windeler\, judge
URL:https://wdaco.org/event/wdaco-summer-sizzler-ii/
LOCATION:Douglas County Fairgrounds-Indoor Arena\, 500 Fairgrounds Drive\, Castle Rock\, CO\, 80104\, United States
CATEGORIES:i. e. USEF,Other Type of Show,WDACO High Point Recognized Events,WDACO Shows
ATTACH;FMTTYPE=image/jpeg:https://wdaco.org/wp-content/uploads/2019/03/cropped-WDACO-Logo-HiRes_496x198.jpg
END:VEVENT
BEGIN:VEVENT
DTSTART;TZID=America/Denver:20250822T080000
DTEND;TZID=America/Denver:20250822T170000
DTSTAMP:20260423T222956
CREATED:20250617T131024Z
LAST-MODIFIED:20250617T131025Z
UID:15084-1755849600-1755882000@wdaco.org
SUMMARY:Equestrian Extravaganza
DESCRIPTION:Dressage Schooling Show 2025 Douglas County Fairgrounds – Indoor500 Fairgrounds Drive\, Castle Rock\, CO 80104Show Date: Aug 22\, 2025WDACO High Point Qualifier \n\n\n\nOpening Date: July 25\, 2025 Closing Date: One week before show date – Online entries accepted until Tuesday before show date unless show is filledJudge: Simone Windeler\, USEF Western Dressage R\, USDF LQuestions: Call Simone (719) 287-2040 or e-mail simonedressage@gmail.com \n\n\n\nDressage Schooling show offering Western and English dressage \n\n\n\nDownload Showbill
URL:https://wdaco.org/event/equestrian-extravaganza/
LOCATION:Douglas County Fairgrounds-Indoor Arena\, 500 Fairgrounds Drive\, Castle Rock\, CO\, 80104\, United States
CATEGORIES:Schooling Show,WDACO High Point Recognized Events
ATTACH;FMTTYPE=image/jpeg:https://wdaco.org/wp-content/uploads/2025/06/Classical-Horse-Club-logo.jpg
ORGANIZER;CN="Classical Horse Club":MAILTO:simonedressage@gmail.com
END:VEVENT
BEGIN:VEVENT
DTSTART;TZID=America/Denver:20250823T000000
DTEND;TZID=America/Denver:20250824T235959
DTSTAMP:20260423T222956
CREATED:20250130T151144Z
LAST-MODIFIED:20250130T151705Z
UID:14808-1755907200-1756079999@wdaco.org
SUMMARY:GVDS Schooling Show II
DESCRIPTION:GVDS Schooling Show II \n\n\n\nOpen:                                         Close: \n\n\n\nJudge:  Julie Haugen\, Dressage “r”; USEF Western Dressage “R”; Recognitions:  WDAA/WDACO/AQHA-Western \n\n\n\n \n\n\n\nEvent Website
URL:https://wdaco.org/event/gvds-schooling-show-ii/
LOCATION:Mesa County Fairgrounds\, 2785 US-50\, Grand Junction\, CO\, 81503\, United States
CATEGORIES:Schooling Show,WDACO High Point Recognized Events
ATTACH;FMTTYPE=image/jpeg:https://wdaco.org/wp-content/uploads/2025/01/Grand-Valley-Dressage.jpg
ORGANIZER;CN="Grand Valley Dressage Society":MAILTO:info@gvds.org
END:VEVENT
BEGIN:VEVENT
DTSTART;TZID=America/Denver:20250830T000000
DTEND;TZID=America/Denver:20250830T235959
DTSTAMP:20260423T222956
CREATED:20250711T181127Z
LAST-MODIFIED:20250711T182830Z
UID:15188-1756512000-1756598399@wdaco.org
SUMMARY:Colorado Arabian Horse Club - One Day Value and Open show
DESCRIPTION:Dressage\, Western Dressage and Sporthorse show\, AHA recognized for Arabians and Half-Arabians\, Open Schooling show for all others. \n\n\n\nDRESSAGE ENTRIES:Opening date: August 2\, 2025 Closing date: August 22\, 2025 \n\n\n\n \n\n\n\nDownload Showbill
URL:https://wdaco.org/event/colorado-arabian-horse-club-one-day-value-and-open-show/
LOCATION:Latigo Trails Equestrian Center\, 13710 Hallelujah Trail\, Elbert\, CO\, 80106\, United States
CATEGORIES:i. e. USEF,WDACO High Point Recognized Events
ATTACH;FMTTYPE=image/jpeg:https://wdaco.org/wp-content/uploads/2024/08/Latigo-entrance.jpg
ORGANIZER;CN="The Elegant Rider":MAILTO:simonedressage@gmail.com
END:VEVENT
BEGIN:VEVENT
DTSTART;TZID=America/Denver:20250830T000000
DTEND;TZID=America/Denver:20250831T235959
DTSTAMP:20260423T222956
CREATED:20250828T124649Z
LAST-MODIFIED:20250828T130959Z
UID:15304-1756512000-1756684799@wdaco.org
SUMMARY:Developing the Best Athlete Thru the Levels with JJ Tate
DESCRIPTION:August 30–31\, 2025 | Boulder Valley Fairgrounds \n\n\n\nTwo Days. One Master Trainer. Unlimited Learning.With 15 riders (both seasoned professionals and dedicated amateurs) and over 45 auditors already registered\, the JJ Tate Symposium is shaping up to be Boulder Valley Dressage’s event of the year. This is your chance to be part of something special— cheer on your friends 🤗\, and spend two days immersed in world-class dressage education 🐎. \n\n\n\n\n\n\n\nWhy Auditing is Your Best Seat in the House 🎟 \n\n\n\n\n👀 Watch a variety of riders from Training Level to Prix St. Georges to develop your eye for correct technique.\n\n\n\n🧠 Learn to see what JJ sees—spot challenges\, understand the “why” behind her solutions\, and watch instant improvement before your eyes.\n\n\n\n✍ Take notes you can apply to your own training the very next day.\n\n\n\n🤝 Share the experience with fellow members and make it a barn mates’ day out.\n\n\n\n\n\n\n\n\nWhat You’ll Experience 🌟🔍 Real-Time Problem-Solving – JJ diagnoses training challenges in seconds and implements solutions that create immediate\, visible improvement.📈 Progressive Training Methodology – Each ride builds on the last\, showing how solid fundamentals develop into brilliance.🐴 Diverse Breeds\, Universal Principles – See Warmbloods\, Thoroughbreds\, Lusitanos\, and Friesian crosses—all benefiting from the same horse-centered principles.🛠 Immediately Applicable Insights – Every exercise\, fix\, and concept you see can be put into action in your own arena. \n\n\n\n\n\n\n\nYour Comfort is Covered 🛋 \n\n\n\n\n❄ Climate-Controlled Arena – No sweat\, no bugs\, no distractions.\n\n\n\n🔊 Crystal-Clear Sound System – Hear every word\, loud and clear.\n\n\n\n🪑 Great Seating – Comfortable indoor bleachers with excellent sightlines.\n\n\n\n\n\n\n\n\nBeyond the Symposium 🌐Keep the momentum going with Team Tate Academy\, JJ’s online training platform offering continuous education and advanced modules. \n\n\n\n\n\n\n\nYour Complete Learning Package 🎁 \n\n\n\n\n🎤 Two Master Class Presentations – JJ’s philosophy\, methodology\, and biomechanical insights revealed.\n\n\n\n❓ Interactive Q&A Sessions – Ask JJ your most pressing questions.\n\n\n\n🎯 Prize Drawings –o 📚 Five copies of The Athletic Development of the Dressage Horse by Charles de Kunffyo 👕 Gorgeous shirts and hatso 👜 Stylish bagso ☕ Coffee mugs you’ll want to use every morningo 🎉 More surprise prizes to be announced!\n\n\n\n\n\n\n\n\nAbout JJ Tate 🐎An internationally recognized FEI trainer\, competitor\, and coach\, JJ Tate is renowned for her compassionate\, classical approach rooted in the Training Scale and guided by the principles of her mentor\, Charles de Kunffy. Her philosophy is simple yet profound: \n\n\n\n🌟 Pursue excellence without sacrificing harmony.📅 Mark Your Calendar & Register NowWhen: August 30–31\, 2025Where: Boulder Valley Fairgrounds🎟 Register to AuditOr go straight to the form: Direct Registration: https://form.jotform.com/250824998351164Don’t miss your chance to support your club\, back our sponsors\, and spend two days learning\, laughing\, and connecting with your dressage friends—secure your seat today! 🐴✨ \n\n\n\n🐴 Listen to the horse. \n\n\n\n🕊 Train with patience\, precision\, and empathy.
URL:https://wdaco.org/event/developing-the-best-athlete-thru-the-levels-with-jj-tate/
LOCATION:Boulder Valley Fairgrounds\, 9595 Nelson Rd\, Longmont\, Colorado\, 80501
ATTACH;FMTTYPE=image/jpeg:https://wdaco.org/wp-content/uploads/2025/08/bouldervalleydressage.jpg
END:VEVENT
BEGIN:VEVENT
DTSTART;TZID=America/Denver:20250830T080000
DTEND;TZID=America/Denver:20250830T170000
DTSTAMP:20260423T222956
CREATED:20250719T122721Z
LAST-MODIFIED:20250719T123658Z
UID:15223-1756540800-1756573200@wdaco.org
SUMMARY:One Day Show at Latigo
DESCRIPTION:This is an All-Breed Sport Horse Show which includes Sport Horse Classes in hand and under saddle\, Classical and Western Dressage Classes. This is our 15th year hosting this show and to celebrate the show committee has added $1\,500.00 in Prize Money! The Judge is Dolly Hannon who is Judging the 2025 Arabian Horse Associaiton Sport Horse Nationals.The opening date for entries is August 2\, 2025 and the closing date will be August 22\, 2025. Under Saddle Sport Horse Classes do not have a closing date and may be entered at any time during the show. \n\n\n\nThe show committee has added $1\,500.00 in Prize Money!\n\n\n\nPrizelist
URL:https://wdaco.org/event/one-day-show-at-latigo/
LOCATION:Latigo Trails Equestrian Center\, 13710 Hallelujah Trail\, Elbert\, CO\, 80106\, United States
ATTACH;FMTTYPE=image/webp:https://wdaco.org/wp-content/uploads/2025/07/OneDayShow2025-scaled.webp
ORGANIZER;CN="Colorado Arabian Horse Club-Southern Division":MAILTO:mrsbrentmeyer@gmail.com
END:VEVENT
END:VCALENDAR