BEGIN:VCALENDAR
VERSION:2.0
PRODID:-//Western Dressage Association® of Colorado - ECPv6.15.20//NONSGML v1.0//EN
CALSCALE:GREGORIAN
METHOD:PUBLISH
X-WR-CALNAME:Western Dressage Association® of Colorado
X-ORIGINAL-URL:https://wdaco.org
X-WR-CALDESC:Events for Western Dressage Association® of Colorado
REFRESH-INTERVAL;VALUE=DURATION:PT1H
X-Robots-Tag:noindex
X-PUBLISHED-TTL:PT1H
BEGIN:VTIMEZONE
TZID:America/Denver
BEGIN:DAYLIGHT
TZOFFSETFROM:-0700
TZOFFSETTO:-0600
TZNAME:MDT
DTSTART:20240310T090000
END:DAYLIGHT
BEGIN:STANDARD
TZOFFSETFROM:-0600
TZOFFSETTO:-0700
TZNAME:MST
DTSTART:20241103T080000
END:STANDARD
BEGIN:DAYLIGHT
TZOFFSETFROM:-0700
TZOFFSETTO:-0600
TZNAME:MDT
DTSTART:20250309T090000
END:DAYLIGHT
BEGIN:STANDARD
TZOFFSETFROM:-0600
TZOFFSETTO:-0700
TZNAME:MST
DTSTART:20251102T080000
END:STANDARD
BEGIN:DAYLIGHT
TZOFFSETFROM:-0700
TZOFFSETTO:-0600
TZNAME:MDT
DTSTART:20260308T090000
END:DAYLIGHT
BEGIN:STANDARD
TZOFFSETFROM:-0600
TZOFFSETTO:-0700
TZNAME:MST
DTSTART:20261101T080000
END:STANDARD
END:VTIMEZONE
BEGIN:VEVENT
DTSTART;TZID=America/Denver:20250907T000000
DTEND;TZID=America/Denver:20250907T235959
DTSTAMP:20260423T210735
CREATED:20250806T155151Z
LAST-MODIFIED:20250806T175340Z
UID:15271-1757203200-1757289599@wdaco.org
SUMMARY:Celebration Dressage Eleventh Hour
DESCRIPTION:Qualifier for RMDS Championship through 2nd Level\n\n\n\n(Schooling available on Sep 6\, 2025)Opening Date: Aug 10\, 2025 Closing Date: Sep 2\, 2025 \n\n\n\nLocated at the Of HORSE You Can! arena at the Denver Polo Club \n\n\n\nThe Celebration of the Horse holds unique events with one goal in mind\, FUN! Our desire at Of HORSE You Can! events\, is to bring the fun back into horse showingwith a quality experience for both the spectator and the rider. \n\n\n\nRMDS recognized Show offering English Dressage\, Eventing Dressage\, and Western Dressage. \n\n\n\nShowbill
URL:https://wdaco.org/event/celebration-dressage-eleventh-hour-2/
LOCATION:Denver Polo Club\, 6359 Airport Road\, Sedalia\, Colorado\, 80135
ATTACH;FMTTYPE=image/jpeg:https://wdaco.org/wp-content/uploads/2025/01/Celebration-of-Horse.jpg
END:VEVENT
BEGIN:VEVENT
DTSTART;TZID=America/Denver:20250925T180000
DTEND;TZID=America/Denver:20250925T200000
DTSTAMP:20260423T210735
CREATED:20250830T151459Z
LAST-MODIFIED:20250830T151922Z
UID:15318-1758823200-1758830400@wdaco.org
SUMMARY:Lecture By Brian Buckner\, CJF - The Genius of the Horse's Hoof
DESCRIPTION:The Genius of the Horse’s Hoof: Nature Nailed it as Man Forges for PerfectionLecture By Brian Buckner\, CJF\n\n\n\nBrian Buckner a farrier who also teaches at CSU who will be lecturing September 25th\, 6pm to 8pm. \n\n\n\nFirestone Town Hall\n\n\n\n9950 Park AveLongmont\, Colorado 80504 \n\n\n\nCost $30 per person \n\n\n\nSign up here
URL:https://wdaco.org/event/the-genius-of-the-horses-hoof/
LOCATION:Firestone Town Hall\, 9950 Park Ave\, Longmont\, Colorado\, 80504
ATTACH;FMTTYPE=image/jpeg:https://wdaco.org/wp-content/uploads/2025/08/Brian-Buckner-event.jpg
END:VEVENT
END:VCALENDAR